BEGIN:VCALENDAR
VERSION:2.0
PRODID:-//Conejo Valley Audubon - ECPv6.15.17.1//NONSGML v1.0//EN
CALSCALE:GREGORIAN
METHOD:PUBLISH
X-WR-CALNAME:Conejo Valley Audubon
X-ORIGINAL-URL:https://wp.conejovalleyaudubon.org
X-WR-CALDESC:Events for Conejo Valley Audubon
REFRESH-INTERVAL;VALUE=DURATION:PT1H
X-Robots-Tag:noindex
X-PUBLISHED-TTL:PT1H
BEGIN:VTIMEZONE
TZID:America/Los_Angeles
BEGIN:DAYLIGHT
TZOFFSETFROM:-0800
TZOFFSETTO:-0700
TZNAME:PDT
DTSTART:20210314T100000
END:DAYLIGHT
BEGIN:STANDARD
TZOFFSETFROM:-0700
TZOFFSETTO:-0800
TZNAME:PST
DTSTART:20211107T090000
END:STANDARD
BEGIN:DAYLIGHT
TZOFFSETFROM:-0800
TZOFFSETTO:-0700
TZNAME:PDT
DTSTART:20220313T100000
END:DAYLIGHT
BEGIN:STANDARD
TZOFFSETFROM:-0700
TZOFFSETTO:-0800
TZNAME:PST
DTSTART:20221106T090000
END:STANDARD
BEGIN:DAYLIGHT
TZOFFSETFROM:-0800
TZOFFSETTO:-0700
TZNAME:PDT
DTSTART:20230312T100000
END:DAYLIGHT
BEGIN:STANDARD
TZOFFSETFROM:-0700
TZOFFSETTO:-0800
TZNAME:PST
DTSTART:20231105T090000
END:STANDARD
END:VTIMEZONE
BEGIN:VEVENT
DTSTART;TZID=America/Los_Angeles:20220402T080000
DTEND;TZID=America/Los_Angeles:20220402T110000
DTSTAMP:20260420T145839
CREATED:20220313T214639Z
LAST-MODIFIED:20220313T214639Z
UID:2256-1648886400-1648897200@wp.conejovalleyaudubon.org
SUMMARY:Soule Park Field Trip
DESCRIPTION:Meet in the parking lot at 8 am. We’ll look for woodpeckers\, riparian birds\, and raptors.\nLeader TBA – check with Dee Lyon – (805) 427-0987
URL:https://wp.conejovalleyaudubon.org/event/soule-park-field-trip/
LOCATION:Soule Park\, Soule Park Dr.\, Ojai\, CA\, 93023
CATEGORIES:Field Trips
END:VEVENT
BEGIN:VEVENT
DTSTART;TZID=America/Los_Angeles:20220404T193000
DTEND;TZID=America/Los_Angeles:20220404T210000
DTSTAMP:20260420T145839
CREATED:20220314T150302Z
LAST-MODIFIED:20220314T150741Z
UID:2275-1649100600-1649106000@wp.conejovalleyaudubon.org
SUMMARY:Monthly Program - April 2022
DESCRIPTION:BIRD MIGRATION IN THE SAN GABRIEL MOUNTAINS\nWith Dr. Ryan Terrill\nDr. Ryan Terrill\nBear Divide is a narrow pass in the San Gabriel Mountains\, just outside of Los Angeles\, that is home to spectacular dawn flights of migrating birds in the spring. With thousands of migrants funneling through such a narrow corridor\, this is a unique biological phenomenon. In 2021\, the Moore Lab of Zoology at Occidental College began a regular count to quantify the numbers and identities of birds migrating through Bear Divide. Join Dr. Ryan Terrill to learn about the status of spring migration across the Divide\, and how you can help. \nCurrently working at the Moore Lab of Zoology at Occidental College\, Dr. Terrill received his B.S. from UC Santa Cruz and his PhD from Louisiana State University. He has studied the evolution of bird molt\, an incredible adaptation that allows birds to drop and regrow worn feathers each year\, and as the lead on the Mexican Bird Resurvey Project\, he used big biodiversity data and genomic tools to understand how a century of human-caused change has impacted bird communities. Dr. Terrill is one of the top experts on local birds and serves on the California Bird Records Committee\, the group which compiles the state bird list and rules on new records. \nTo attend this meeting\, use this link: https://zoom.us/j/6155249106
URL:https://wp.conejovalleyaudubon.org/event/monthly-program-april-2022/
LOCATION:CVAS Monthly Program Zoom Meeting
CATEGORIES:Monthly Program
END:VEVENT
BEGIN:VEVENT
DTSTART;TZID=America/Los_Angeles:20220409T080000
DTEND;TZID=America/Los_Angeles:20220409T110000
DTSTAMP:20260420T145839
CREATED:20220313T215038Z
LAST-MODIFIED:20220313T215038Z
UID:2259-1649491200-1649502000@wp.conejovalleyaudubon.org
SUMMARY:Sisar Canyon Field Trip
DESCRIPTION:Meet at the two water towers at 8 am. We’ll walk up to the creek\, looking for migrating warblers.\nLeader is Sammy Cowell (818) 470-7098
URL:https://wp.conejovalleyaudubon.org/event/sisar-canyon-field-trip/
LOCATION:Sisar Canyon\, 12799 Sisar Canyon Rd\, Ojai\, CA\, 93023
CATEGORIES:Field Trips
END:VEVENT
BEGIN:VEVENT
DTSTART;TZID=America/Los_Angeles:20220416T080000
DTEND;TZID=America/Los_Angeles:20220416T110000
DTSTAMP:20260420T145839
CREATED:20220313T215527Z
LAST-MODIFIED:20220313T215527Z
UID:2262-1650096000-1650106800@wp.conejovalleyaudubon.org
SUMMARY:Rancho Sierra Vista Field Trip
DESCRIPTION:Meet at the parking area at 8 am. We’ll look for grassland birds.\nLeader TBA – check with Dee Lyon (805) 427-0987
URL:https://wp.conejovalleyaudubon.org/event/rancho-sierra-vista-field-trip/
LOCATION:Rancho Sierra Vista / Satwiwa\, 4803 Lynn Rd\, Newbury Park\, CA\, 91320
CATEGORIES:Field Trips
END:VEVENT
BEGIN:VEVENT
DTSTART;TZID=America/Los_Angeles:20220423T080000
DTEND;TZID=America/Los_Angeles:20220423T110000
DTSTAMP:20260420T145839
CREATED:20220313T215855Z
LAST-MODIFIED:20220313T215855Z
UID:2264-1650700800-1650711600@wp.conejovalleyaudubon.org
SUMMARY:King Gillette Ranch Field Trip
DESCRIPTION:Meet at the parking area at 8 am. This park offers a wide variety of birds.\nLeader TBA – check with Dee Lyon (805) 427-0987
URL:https://wp.conejovalleyaudubon.org/event/king-gillette-ranch-field-trip/
LOCATION:King Gillette Ranch\, 26800 Mullholland Hwy\, Calabasas\, CA\, 91302
END:VEVENT
BEGIN:VEVENT
DTSTART;TZID=America/Los_Angeles:20220424T090000
DTEND;TZID=America/Los_Angeles:20220424T140000
DTSTAMP:20260420T145839
CREATED:20220223T162424Z
LAST-MODIFIED:20220316T153331Z
UID:2208-1650790800-1650808800@wp.conejovalleyaudubon.org
SUMMARY:Bird Friendly-Garden Tour
DESCRIPTION:See what folks have done with California natives in their gardens. \nRSVP by April 15th! \nMore information.
URL:https://wp.conejovalleyaudubon.org/event/bird-friendly-garden-tour/
END:VEVENT
BEGIN:VEVENT
DTSTART;TZID=America/Los_Angeles:20220430T090000
DTEND;TZID=America/Los_Angeles:20220430T120000
DTSTAMP:20260420T145839
CREATED:20220313T220632Z
LAST-MODIFIED:20220314T145709Z
UID:2267-1651309200-1651320000@wp.conejovalleyaudubon.org
SUMMARY:Wheeler Gorge Field Trip
DESCRIPTION:Meet across the street from the park at 9 am. We’ll look for higher elevation species.\nLeader is Matthew Page – (805) 990-6534
URL:https://wp.conejovalleyaudubon.org/event/wheeler-gorge-field-trip/
LOCATION:Wheeler Gorge\, 17020 Maricopa Hwy\, Ojai\, CA\, 93023
CATEGORIES:Field Trips
END:VEVENT
END:VCALENDAR