BEGIN:VCALENDAR
VERSION:2.0
PRODID:-//Conejo Valley Audubon - ECPv6.15.17.1//NONSGML v1.0//EN
CALSCALE:GREGORIAN
METHOD:PUBLISH
X-WR-CALNAME:Conejo Valley Audubon
X-ORIGINAL-URL:https://wp.conejovalleyaudubon.org
X-WR-CALDESC:Events for Conejo Valley Audubon
REFRESH-INTERVAL;VALUE=DURATION:PT1H
X-Robots-Tag:noindex
X-PUBLISHED-TTL:PT1H
BEGIN:VTIMEZONE
TZID:America/Los_Angeles
BEGIN:DAYLIGHT
TZOFFSETFROM:-0800
TZOFFSETTO:-0700
TZNAME:PDT
DTSTART:20210314T100000
END:DAYLIGHT
BEGIN:STANDARD
TZOFFSETFROM:-0700
TZOFFSETTO:-0800
TZNAME:PST
DTSTART:20211107T090000
END:STANDARD
BEGIN:DAYLIGHT
TZOFFSETFROM:-0800
TZOFFSETTO:-0700
TZNAME:PDT
DTSTART:20220313T100000
END:DAYLIGHT
BEGIN:STANDARD
TZOFFSETFROM:-0700
TZOFFSETTO:-0800
TZNAME:PST
DTSTART:20221106T090000
END:STANDARD
BEGIN:DAYLIGHT
TZOFFSETFROM:-0800
TZOFFSETTO:-0700
TZNAME:PDT
DTSTART:20230312T100000
END:DAYLIGHT
BEGIN:STANDARD
TZOFFSETFROM:-0700
TZOFFSETTO:-0800
TZNAME:PST
DTSTART:20231105T090000
END:STANDARD
END:VTIMEZONE
BEGIN:VEVENT
DTSTART;TZID=America/Los_Angeles:20220305T083000
DTEND;TZID=America/Los_Angeles:20220305T110000
DTSTAMP:20260420T145824
CREATED:20220221T172249Z
LAST-MODIFIED:20220221T173409Z
UID:2185-1646469000-1646478000@wp.conejovalleyaudubon.org
SUMMARY:Arroyo Verde Park Field Trip
DESCRIPTION:Meet at 8:30 am at the back parking lot by the baseball fields. Bring water. We will look for woodpeckers\, early migrants and woodland birds. \nLeader is Linda Easter (818) 519-2833 .
URL:https://wp.conejovalleyaudubon.org/event/arroyo-verde-park-field-trip/
LOCATION:Arroyo Verde Park\, Arroyo Verde Park Rd.\, Ventura\, CA\, 93003
CATEGORIES:Field Trips
END:VEVENT
BEGIN:VEVENT
DTSTART;TZID=America/Los_Angeles:20220307T193000
DTEND;TZID=America/Los_Angeles:20220307T210000
DTSTAMP:20260420T145824
CREATED:20220221T165055Z
LAST-MODIFIED:20220221T165149Z
UID:2181-1646681400-1646686800@wp.conejovalleyaudubon.org
SUMMARY:Monthly Program - March 2022
DESCRIPTION:CREATING AN EVOLVING BACKYARD HABITAT\nWith Don and Chrystal Klabunde\nOver the past 35 years\, the Klabunde’s have worked to create a comfortably natural environment in their half acre of rocky clay hillside in Simi Valley. Many bird\, mammal and reptile species\, visit them regularly to shelter\, nest\, and feed. To enhance the productivity of this backyard habitat\, they’ve gravitated toward more and more native plants from Douglas Irises to a magnificent Valley Oak. On March 7th\, they’ll talk about what has grown successfully and what hasn’t\, and they’ll share pictures of the birds that inhabit their yard now\, including the ones that have come to nest there. \nDon and Chrystal Klabunde are retired physicist and animator respectively. They are long-time active members of CVAS\, both serving on the board. \nTo attend this meeting\, use this link: https://zoom.us/j/6155249106
URL:https://wp.conejovalleyaudubon.org/event/monthly-program-march-2022/
LOCATION:CVAS Monthly Program Zoom Meeting
CATEGORIES:Monthly Program
END:VEVENT
BEGIN:VEVENT
DTSTART;TZID=America/Los_Angeles:20220313T080000
DTEND;TZID=America/Los_Angeles:20220313T110000
DTSTAMP:20260420T145824
CREATED:20220221T172734Z
LAST-MODIFIED:20220221T173343Z
UID:2188-1647158400-1647169200@wp.conejovalleyaudubon.org
SUMMARY:Rustic Canyon/Happy Camp Field Trip
DESCRIPTION:Meet at 8:00 am at the parking area under the Eucalyptus trees east of the golf course parking lot. Bring water! We will look for migrants\, sparrows\, hawks and field birds. \nLeader is Don Klabunde (805) 522-8023
URL:https://wp.conejovalleyaudubon.org/event/rustic-anyon-happy-camp-field-trip/
LOCATION:Rustic Canyon\, Campus Park Rd.\, Moorpark\, CA\, 93021
CATEGORIES:Field Trips
END:VEVENT
BEGIN:VEVENT
DTSTART;TZID=America/Los_Angeles:20220319T080000
DTEND;TZID=America/Los_Angeles:20220319T110000
DTSTAMP:20260420T145824
CREATED:20220221T173313Z
LAST-MODIFIED:20220221T173313Z
UID:2191-1647676800-1647687600@wp.conejovalleyaudubon.org
SUMMARY:Lake Piru Field Trip
DESCRIPTION:At the entrance to Lake Piru\, tell the attendant that you are with the Conejo Valley Audubon Society group\, and you will receive a discounted admission rate of $5 per vehicle. After entering the park\, take the first road on the right that leads down to the docks and then head up the hill on the left towards the store at Condor Point to meet the leader at 8:00 am. \nBring water\, snacks\, binoculars\, and a scope if you have one. There are restrooms in the park. The last time this trip was offered we saw 70+ species\, including California Condors and Bald Eagles\, as well as orioles and other spring arrivals. \nLeader is Pete Robertshaw (909) 771-9720.
URL:https://wp.conejovalleyaudubon.org/event/lake-piru-field-trip/
LOCATION:Lake Piru\, 4780 Piru Canyon Rd\, Piru\, CA\, 93040
CATEGORIES:Field Trips
END:VEVENT
BEGIN:VEVENT
DTSTART;TZID=America/Los_Angeles:20220327T090000
DTEND;TZID=America/Los_Angeles:20220327T120000
DTSTAMP:20260420T145824
CREATED:20220221T202527Z
LAST-MODIFIED:20220221T203022Z
UID:2198-1648371600-1648382400@wp.conejovalleyaudubon.org
SUMMARY:Wind Wolves Preserve Field Trip
DESCRIPTION:Wind Wolves Preserve\nMeet at 9:00 am at the parking lot. It’s a 2 hour drive to get there in the south end of the San Joaquin Valley. We will walk in this beautiful preserve looking for elk\, wood-land birds and spring migrants. \nLeader is Dee Lyon (805) 427-0987.
URL:https://wp.conejovalleyaudubon.org/event/wind-wolves-preserve-field-trip/
LOCATION:Wind Wolves Preserve\, 16019 CA-166\, Bakersfield\, CA\, 93311
CATEGORIES:Field Trips
END:VEVENT
END:VCALENDAR