BEGIN:VCALENDAR
VERSION:2.0
PRODID:-//Conejo Valley Audubon - ECPv6.15.17.1//NONSGML v1.0//EN
CALSCALE:GREGORIAN
METHOD:PUBLISH
X-WR-CALNAME:Conejo Valley Audubon
X-ORIGINAL-URL:https://wp.conejovalleyaudubon.org
X-WR-CALDESC:Events for Conejo Valley Audubon
REFRESH-INTERVAL;VALUE=DURATION:PT1H
X-Robots-Tag:noindex
X-PUBLISHED-TTL:PT1H
BEGIN:VTIMEZONE
TZID:America/Los_Angeles
BEGIN:DAYLIGHT
TZOFFSETFROM:-0800
TZOFFSETTO:-0700
TZNAME:PDT
DTSTART:20210314T100000
END:DAYLIGHT
BEGIN:STANDARD
TZOFFSETFROM:-0700
TZOFFSETTO:-0800
TZNAME:PST
DTSTART:20211107T090000
END:STANDARD
BEGIN:DAYLIGHT
TZOFFSETFROM:-0800
TZOFFSETTO:-0700
TZNAME:PDT
DTSTART:20220313T100000
END:DAYLIGHT
BEGIN:STANDARD
TZOFFSETFROM:-0700
TZOFFSETTO:-0800
TZNAME:PST
DTSTART:20221106T090000
END:STANDARD
BEGIN:DAYLIGHT
TZOFFSETFROM:-0800
TZOFFSETTO:-0700
TZNAME:PDT
DTSTART:20230312T100000
END:DAYLIGHT
BEGIN:STANDARD
TZOFFSETFROM:-0700
TZOFFSETTO:-0800
TZNAME:PST
DTSTART:20231105T090000
END:STANDARD
END:VTIMEZONE
BEGIN:VEVENT
DTSTART;TZID=America/Los_Angeles:20220207T193000
DTEND;TZID=America/Los_Angeles:20220207T210000
DTSTAMP:20260420T181643
CREATED:20220115T204430Z
LAST-MODIFIED:20220115T204529Z
UID:2123-1644262200-1644267600@wp.conejovalleyaudubon.org
SUMMARY:Monthly Program - February 2022
DESCRIPTION:NESTING IN THE CITY\nWith Daniel S. Cooper PhD\nDan Cooper\nBird populations\, particularly in urban areas\, are in constant flux\, with some species adapting and thriving\, and others declining.  Daniel S. Cooper Ph.D. will describe two studies he recently conducted as part of his dissertation for his Ph.D. from UCLA (Biology\, 2020). First\, he examined patterns of urban tolerance in nesting raptors of the upper Malibu Creek watershed along the Ventura-Los Angeles county border between Thousand Oaks and Calabasas. Here he found major changes in the distribution of nesting raptors since earlier surveys were conducted in the 1970s and 80s\, with certain species becoming very urban-tolerant\, and others not. He also investigated the role of ecological and behavioral traits that maybe accounting for distributional shifts in more than 50 species of nesting birds in the Los Angeles area\, using two datasets separated by over 20 years. He will discuss trends in species distribution and abundance\, explore traits that appear to confer success in urban areas\, and offer predictions as to which species – or types of species – will continue to thrive in urban and urbanizing Southern California. He will also discuss species that declined during this time period\, and offer suggestions for their conservation. \nDaniel S. Cooper is a lifelong resident of Southern California\, and is regarded as an expert on the birds of the region. Through research and independent consulting\, he has spent more than 20 years conducting surveys and analyzing bird populations from the deserts to the coast\, including rare and protected species such as the California Gnatcatcher and the coastal Cactus Wren. Dan has served on many environmental advisory boards and committees\, including most recently on the Oak Park – Park and Recreation Planning Committee. Since 2012\, he and his family have made their home in Oak Park\, where he enjoys the natural beauty and outdoor recreation opportunities\, even if his two kids don’t. \nTo attend this meeting\, use this link: https://zoom.us/j/6155249106
URL:https://wp.conejovalleyaudubon.org/event/monthly-program-february-2022/
LOCATION:CVAS Monthly Program Zoom Meeting
CATEGORIES:Monthly Program
END:VEVENT
BEGIN:VEVENT
DTSTART;TZID=America/Los_Angeles:20220226T083000
DTEND;TZID=America/Los_Angeles:20220226T110000
DTSTAMP:20260420T181643
CREATED:20220221T201652Z
LAST-MODIFIED:20220221T201652Z
UID:2195-1645864200-1645873200@wp.conejovalleyaudubon.org
SUMMARY:Lake Sherwood Field Trip
DESCRIPTION:Meet at 8:30 am. Enter on Stafford Rd. off of Potrero Rd. We will see lots of great water birds and oak woodland denizens. \nLeader is Mary Hansen. Call her at (805) 390-4586 to get your name onto the list to get in through the gate.
URL:https://wp.conejovalleyaudubon.org/event/lake-sherwood-field-trip/
LOCATION:Lake Sherwood\, 2201 Stafford Rd.\, Westlake Village\, CA\, 91361
CATEGORIES:Field Trips
END:VEVENT
END:VCALENDAR