BEGIN:VCALENDAR
VERSION:2.0
PRODID:-//Conejo Valley Audubon - ECPv6.15.17.1//NONSGML v1.0//EN
CALSCALE:GREGORIAN
METHOD:PUBLISH
X-ORIGINAL-URL:https://wp.conejovalleyaudubon.org
X-WR-CALDESC:Events for Conejo Valley Audubon
REFRESH-INTERVAL;VALUE=DURATION:PT1H
X-Robots-Tag:noindex
X-PUBLISHED-TTL:PT1H
BEGIN:VTIMEZONE
TZID:America/Los_Angeles
BEGIN:DAYLIGHT
TZOFFSETFROM:-0800
TZOFFSETTO:-0700
TZNAME:PDT
DTSTART:20210314T100000
END:DAYLIGHT
BEGIN:STANDARD
TZOFFSETFROM:-0700
TZOFFSETTO:-0800
TZNAME:PST
DTSTART:20211107T090000
END:STANDARD
BEGIN:DAYLIGHT
TZOFFSETFROM:-0800
TZOFFSETTO:-0700
TZNAME:PDT
DTSTART:20220313T100000
END:DAYLIGHT
BEGIN:STANDARD
TZOFFSETFROM:-0700
TZOFFSETTO:-0800
TZNAME:PST
DTSTART:20221106T090000
END:STANDARD
BEGIN:DAYLIGHT
TZOFFSETFROM:-0800
TZOFFSETTO:-0700
TZNAME:PDT
DTSTART:20230312T100000
END:DAYLIGHT
BEGIN:STANDARD
TZOFFSETFROM:-0700
TZOFFSETTO:-0800
TZNAME:PST
DTSTART:20231105T090000
END:STANDARD
END:VTIMEZONE
BEGIN:VEVENT
DTSTART;TZID=America/Los_Angeles:20220102T080000
DTEND;TZID=America/Los_Angeles:20220102T110000
DTSTAMP:20260421T095003
CREATED:20211224T203829Z
LAST-MODIFIED:20211224T203829Z
UID:2051-1641110400-1641121200@wp.conejovalleyaudubon.org
SUMMARY:Arroyo Simi Field Trip
DESCRIPTION:Arroyo Simi has a great assortment of shorebirds\, ducks\, herons and gulls. It is easily accessed via a level bike path that runs from Madera Street to First Street and on through most of Simi Valley. We will walk slowly along the mostly natural bottomed channel scanning for birds and taking our time to better learn identification skills. Expected species include Green Heron\, Black-necked Stilt\, Belted Kingfisher\, and White-faced Ibis. Possible birds include Hooded Merganser and Blue-winged Teal. Meet at the entrance to the bike path at Easy Street in Simi Valley\, just east of Madera Road. \nPlease register in advance by contacting walk leader Don Klabunde at (805) 522-8023.
URL:https://wp.conejovalleyaudubon.org/event/arroyo-simi-field-trip-2/
LOCATION:Arroyo Simi (Madera)\, 20 E Easy St\, Simi Valley\, CA\, 93065\, United States
CATEGORIES:Field Trips
END:VEVENT
BEGIN:VEVENT
DTSTART;TZID=America/Los_Angeles:20220103T193000
DTEND;TZID=America/Los_Angeles:20220103T210000
DTSTAMP:20260421T095003
CREATED:20211226T191123Z
LAST-MODIFIED:20211226T191123Z
UID:2065-1641238200-1641243600@wp.conejovalleyaudubon.org
SUMMARY:Monthly Program - January 2022
DESCRIPTION:A GUIDED TOUR OF PANAMA’S COLORFUL BIRDS\nGuido Berguido\nIn Panama\, where there is an amazing variety of environments within a small space. From marshes to dry scrub to rainforests to foothills and all the way up to mountainous cloud forests over 3\,000 feet high\, brightly colored resident birds share their home with thousands of migrants from distant latitudes. In this month’s presentation you will not only learn about those amazing colorful birds and ecosystems\, but importantly about how birding in Panama will support a local group’s efforts to preserve them. \nA native of Panama City\, our guide\, Guido Berguido\, describes himself as a biologist by training\, a tour leader by accident\, and a conservationist at heart. He was instrumental in founding the 1\,500-acre Cerro Chucantí Private Natural Reserve and the ADOPTA Rainforest Association. He has earned degrees in Environmental Biology\, Tourism Administration\, and even an MBA. And for more than 25 years he has been steeped in the rich avifauna and ecosystems of Panama. \nTo attend this meeting\, use this link: https://zoom.us/j/6155249106
URL:https://wp.conejovalleyaudubon.org/event/monthly-program-january-2022/
LOCATION:CVAS Monthly Program Zoom Meeting
CATEGORIES:Monthly Program
END:VEVENT
BEGIN:VEVENT
DTSTART;VALUE=DATE:20220108
DTEND;VALUE=DATE:20220110
DTSTAMP:20260421T095003
CREATED:20211224T204458Z
LAST-MODIFIED:20211224T204458Z
UID:2053-1641600000-1641772799@wp.conejovalleyaudubon.org
SUMMARY:Salton Sea Field Trip
DESCRIPTION:Register for the trip by emailing the leader\, Pete Robertshaw\, at PeterRobertshaw@verizon.net to receive the details of where and when to meet. Please make your own hotel reservation in Brawley. Pete recommends the Brawley Inn\, but there are other options. You will need to fill out a liability waiver. \nWe will start early Saturday afternoon\, near the north end of the Salton Sea\, then bird down the west side of the lake to Unit 1. We’ll spend the night in Brawley\, bird a little around the town ear-ly on Sunday and then work our way north on the east side of the lake\, stopping at a few hotspots before heading home Sunday afternoon. Please note that the trip will require a limited amount of driving on unpaved roads. \nTarget birds: thousands of Snow and Ross’s Geese\, Sandhill Cranes\, lots of ducks and waders\, rails\, raptors\, Burrowing Owls\, and desert species like Gambel’s Quail\, Abert’s Towhee\, doves\, Gila and Ladder-Backed Woodpeckers\, and Vermilion Flycatcher.
URL:https://wp.conejovalleyaudubon.org/event/salton-sea-field-trip/
LOCATION:Salton Sea\, Brawley\, CA\, 92227\, United States
CATEGORIES:Field Trips
END:VEVENT
BEGIN:VEVENT
DTSTART;TZID=America/Los_Angeles:20220112T080000
DTEND;TZID=America/Los_Angeles:20220112T093000
DTSTAMP:20260421T095003
CREATED:20211228T043259Z
LAST-MODIFIED:20220111T221947Z
UID:2075-1641974400-1641979800@wp.conejovalleyaudubon.org
SUMMARY:Beginner Bird Walk - Rancho Sierra Vista / Satwiwa - CANCELED
DESCRIPTION:**** CANCELED – Due to COVID/Omicron Surge **** \nConejo Valley Audubon invites birders of all experience levels to attend our monthly Beginner Bird Walks at Rancho Sierra Vista/Satwiwa. These walks are held on the second Wednesday of each month. We will meet at 8:00 am at the main parking lot\, which is accessible off Lynn Road at Via Goleta in Newbury Park. \n  Rancho Sierra Vista is an excellent place to see many of the oak woodlands birds that are common in the Conejo Valley area. We will take time to introduce beginning birders to these species and will teach the best techniques for locating and identifying them. Wear comfortable walking shoes. \nPlease register in advance by contacting walk leader Richard Armerding at (310) 701-3878 (texting is OK).
URL:https://wp.conejovalleyaudubon.org/event/beginner-bird-walk-rancho-sierra-vista-satwiwa-2022-1/
LOCATION:Rancho Sierra Vista / Satwiwa\, 4803 Lynn Rd\, Newbury Park\, CA\, 91320
CATEGORIES:Field Trips
END:VEVENT
BEGIN:VEVENT
DTSTART;TZID=America/Los_Angeles:20220116T080000
DTEND;TZID=America/Los_Angeles:20220116T110000
DTSTAMP:20260421T095003
CREATED:20211224T205117Z
LAST-MODIFIED:20220111T221905Z
UID:2058-1642320000-1642330800@wp.conejovalleyaudubon.org
SUMMARY:California State University Channel Islands Field Trip - CANCELED
DESCRIPTION:**** CANCELED – Due to COVID/Omicron Surge **** \nWe will look for flycatchers\, grassland birds and any unusual birds found on the Christmas Bird Count. \nContact leader\, Bonnie Clarfield-Bylin (805-405-5632)\, for time and information on parking.
URL:https://wp.conejovalleyaudubon.org/event/california-state-university-channel-islands-field-trip/
LOCATION:CSUCI\, 1 University Dr.\, Camarillo\, CA\, 93012\, United States
END:VEVENT
BEGIN:VEVENT
DTSTART;TZID=America/Los_Angeles:20220121T080000
DTEND;TZID=America/Los_Angeles:20220121T110000
DTSTAMP:20260421T095003
CREATED:20211228T042555Z
LAST-MODIFIED:20220104T050404Z
UID:2070-1642752000-1642762800@wp.conejovalleyaudubon.org
SUMMARY:Point Mugu Navy Base Field Trip - CANCELED
DESCRIPTION:*** Unfortunately\, we have had to cancel this field trip. We will try to reschedule it later in the year. *** \nThis field trip is open only to current members of Conejo Valley Audubon Society. The Navy says they will be ready for us this time. \nText Dee Lyon at (805)427-0987 for the forms which must be in by three weeks prior to the trip. That’s January 1st!  \nWe saw close to 70 species in November.
URL:https://wp.conejovalleyaudubon.org/event/point-mugu-navy-base-field-trip/
CATEGORIES:Field Trips
END:VEVENT
BEGIN:VEVENT
DTSTART;TZID=America/Los_Angeles:20220129T080000
DTEND;TZID=America/Los_Angeles:20220129T110000
DTSTAMP:20260421T095003
CREATED:20211228T042951Z
LAST-MODIFIED:20220115T203307Z
UID:2072-1643443200-1643454000@wp.conejovalleyaudubon.org
SUMMARY:Briar’s Bluff Field Trip - CANCELED
DESCRIPTION:**** CANCELED – Due to COVID/Omicron Surge **** \nBriar’s Bluff behind California Lutheran University (a change from initial schedule). \nMeet at 8 am at the north end of Mountclef Blvd. We will look for the CA Gnatcatchers\, Cactus Wrens\, sparrows and other grassland birds. \nLeader is Dennis Allen.
URL:https://wp.conejovalleyaudubon.org/event/briars-bluff-field-trip/
LOCATION:Briar Bluff (CLU)\, 200 Bainbridge Ct\, Thousand Oaks\, CA 91360\, Thousand Oaks\, CA\, 91360\, United States
CATEGORIES:Field Trips
END:VEVENT
END:VCALENDAR