BEGIN:VCALENDAR
VERSION:2.0
PRODID:-//Conejo Valley Audubon - ECPv6.15.17.1//NONSGML v1.0//EN
CALSCALE:GREGORIAN
METHOD:PUBLISH
X-WR-CALNAME:Conejo Valley Audubon
X-ORIGINAL-URL:https://wp.conejovalleyaudubon.org
X-WR-CALDESC:Events for Conejo Valley Audubon
REFRESH-INTERVAL;VALUE=DURATION:PT1H
X-Robots-Tag:noindex
X-PUBLISHED-TTL:PT1H
BEGIN:VTIMEZONE
TZID:America/Los_Angeles
BEGIN:DAYLIGHT
TZOFFSETFROM:-0800
TZOFFSETTO:-0700
TZNAME:PDT
DTSTART:20200308T100000
END:DAYLIGHT
BEGIN:STANDARD
TZOFFSETFROM:-0700
TZOFFSETTO:-0800
TZNAME:PST
DTSTART:20201101T090000
END:STANDARD
BEGIN:DAYLIGHT
TZOFFSETFROM:-0800
TZOFFSETTO:-0700
TZNAME:PDT
DTSTART:20210314T100000
END:DAYLIGHT
BEGIN:STANDARD
TZOFFSETFROM:-0700
TZOFFSETTO:-0800
TZNAME:PST
DTSTART:20211107T090000
END:STANDARD
BEGIN:DAYLIGHT
TZOFFSETFROM:-0800
TZOFFSETTO:-0700
TZNAME:PDT
DTSTART:20220313T100000
END:DAYLIGHT
BEGIN:STANDARD
TZOFFSETFROM:-0700
TZOFFSETTO:-0800
TZNAME:PST
DTSTART:20221106T090000
END:STANDARD
END:VTIMEZONE
BEGIN:VEVENT
DTSTART;TZID=America/Los_Angeles:20211205T080000
DTEND;TZID=America/Los_Angeles:20211205T110000
DTSTAMP:20260421T013152
CREATED:20211115T170246Z
LAST-MODIFIED:20211115T170436Z
UID:1986-1638691200-1638702000@wp.conejovalleyaudubon.org
SUMMARY:Rustic Canyon
DESCRIPTION:(CHANGE FROM ORIGINAL SCHEDULE) Meet at the gate at 8:00 am. We will walk along the path\, looking for birds who like the edge of the golf course. \nLeader is Dee Lyon\, (805) 427-0987.
URL:https://wp.conejovalleyaudubon.org/event/rustic-canyon/
CATEGORIES:Field Trips
END:VEVENT
BEGIN:VEVENT
DTSTART;TZID=America/Los_Angeles:20211206T193000
DTEND;TZID=America/Los_Angeles:20211206T210000
DTSTAMP:20260421T013152
CREATED:20211115T163953Z
LAST-MODIFIED:20211118T002346Z
UID:1982-1638819000-1638824400@wp.conejovalleyaudubon.org
SUMMARY:Monthly Program - December 2021
DESCRIPTION:THE BIRDS NEED OUR HELP!\nPopulation declines have hit many of our favorite birds\, and it’s time we talk about how we can help them out. Join our President\, Frank DeMartino\, who will take a closer look at Cornell’s Seven Simple Actions as well as some other local organizations and projects that are helping restore lost habitat. He’ll talk about turning your yard into a Certified Wildlife Habitat and how native plants can help turn the tide for our feathered friends. \nFrank is an avid birdwatcher whose passion for birds has led him to serve on the board of both Ventura Audubon Society and Conejo Valley Audubon Society where he is currently President. He even opened a Wild Birds Unlimited store in Ventura in 2017. \nTo attend this meeting\, use this link: https://zoom.us/j/6155249106
URL:https://wp.conejovalleyaudubon.org/event/monthly-program-december-2021/
LOCATION:CVAS Monthly Program Zoom Meeting
CATEGORIES:Monthly Program
END:VEVENT
BEGIN:VEVENT
DTSTART;TZID=America/Los_Angeles:20211208T080000
DTEND;TZID=America/Los_Angeles:20211208T093000
DTSTAMP:20260421T013152
CREATED:20210804T195409Z
LAST-MODIFIED:20210804T195409Z
UID:1472-1638950400-1638955800@wp.conejovalleyaudubon.org
SUMMARY:Beginner Bird Walk - Rancho Sierra Vista / Satwiwa
DESCRIPTION:Conejo Valley Audubon invites birders of all experience levels to attend our monthly Beginner Bird Walks at Rancho Sierra Vista/Satwiwa. These walks are held on the second Wednesday of each month. We will meet at 8:00 am at the main parking lot\, which is accessible off Lynn Road at Via Goleta in Newbury Park. \n  Rancho Sierra Vista is an excellent place to see many of the oak woodlands birds that are common in the Conejo Valley area. We will take time to introduce beginning birders to these species and will teach the best techniques for locating and identifying them. Wear comfortable walking shoes. \nPlease register in advance by contacting walk leader Richard Armerding at (310) 701-3878 (texting is OK).
URL:https://wp.conejovalleyaudubon.org/event/beginner-bird-walk-rancho-sierra-vista-satwiwa-14/
LOCATION:Rancho Sierra Vista / Satwiwa\, 4803 Lynn Rd\, Newbury Park\, CA\, 91320
CATEGORIES:Field Trips
END:VEVENT
BEGIN:VEVENT
DTSTART;TZID=America/Los_Angeles:20211211T080000
DTEND;TZID=America/Los_Angeles:20211211T110000
DTSTAMP:20260421T013152
CREATED:20211115T170650Z
LAST-MODIFIED:20211115T170839Z
UID:1988-1639209600-1639220400@wp.conejovalleyaudubon.org
SUMMARY:Paramount Ranch
DESCRIPTION:Meet at 8:00 am\, in the parking lot. Great birds in the oak trees. \nLeader to be arranged\, check with Dee Lyon\, (805) 427-0987.
URL:https://wp.conejovalleyaudubon.org/event/paramount-ranch/
LOCATION:Paramount Ranch\, 2903 Cornell Rd.\, Agoura Hills\, CA\, 91301
CATEGORIES:Field Trips
END:VEVENT
BEGIN:VEVENT
DTSTART;VALUE=DATE:20211219
DTEND;VALUE=DATE:20211220
DTSTAMP:20260421T013152
CREATED:20211116T014318Z
LAST-MODIFIED:20211116T014351Z
UID:1997-1639872000-1639958399@wp.conejovalleyaudubon.org
SUMMARY:Christmas Bird Count 2021
DESCRIPTION:Please join us for the National Audubon Society’s 121st annual Christmas Bird Count (CBC) on Sunday December 19\, 2021\, and help cover the Conejo Valley Audubon Society’s “Thousand Oaks” CBC circle. \nSee this page for more details
URL:https://wp.conejovalleyaudubon.org/event/christmas-bird-count-2020-2/
END:VEVENT
BEGIN:VEVENT
DTSTART;TZID=America/Los_Angeles:20211227T080000
DTEND;TZID=America/Los_Angeles:20211227T110000
DTSTAMP:20260421T013152
CREATED:20211116T015153Z
LAST-MODIFIED:20211116T015240Z
UID:2000-1640592000-1640602800@wp.conejovalleyaudubon.org
SUMMARY:Chesebro Canyon
DESCRIPTION:Meet at 8:00 am in the parking lot. Always great for woodpeckers. \nLeader to be arranged\, check with Dee\, (805) 427-0987.
URL:https://wp.conejovalleyaudubon.org/event/chesebro-canyon/
LOCATION:Chesebro Canyon\, 5792 Chesebro Rd\, Agoura Hills\, CA\, 91301
CATEGORIES:Field Trips
END:VEVENT
END:VCALENDAR