BEGIN:VCALENDAR
VERSION:2.0
PRODID:-//Conejo Valley Audubon - ECPv6.15.17.1//NONSGML v1.0//EN
CALSCALE:GREGORIAN
METHOD:PUBLISH
X-WR-CALNAME:Conejo Valley Audubon
X-ORIGINAL-URL:https://wp.conejovalleyaudubon.org
X-WR-CALDESC:Events for Conejo Valley Audubon
REFRESH-INTERVAL;VALUE=DURATION:PT1H
X-Robots-Tag:noindex
X-PUBLISHED-TTL:PT1H
BEGIN:VTIMEZONE
TZID:America/Los_Angeles
BEGIN:DAYLIGHT
TZOFFSETFROM:-0800
TZOFFSETTO:-0700
TZNAME:PDT
DTSTART:20200308T100000
END:DAYLIGHT
BEGIN:STANDARD
TZOFFSETFROM:-0700
TZOFFSETTO:-0800
TZNAME:PST
DTSTART:20201101T090000
END:STANDARD
BEGIN:DAYLIGHT
TZOFFSETFROM:-0800
TZOFFSETTO:-0700
TZNAME:PDT
DTSTART:20210314T100000
END:DAYLIGHT
BEGIN:STANDARD
TZOFFSETFROM:-0700
TZOFFSETTO:-0800
TZNAME:PST
DTSTART:20211107T090000
END:STANDARD
BEGIN:DAYLIGHT
TZOFFSETFROM:-0800
TZOFFSETTO:-0700
TZNAME:PDT
DTSTART:20220313T100000
END:DAYLIGHT
BEGIN:STANDARD
TZOFFSETFROM:-0700
TZOFFSETTO:-0800
TZNAME:PST
DTSTART:20221106T090000
END:STANDARD
END:VTIMEZONE
BEGIN:VEVENT
DTSTART;TZID=America/Los_Angeles:20211004T193000
DTEND;TZID=America/Los_Angeles:20211004T210000
DTSTAMP:20260421T094707
CREATED:20210924T161151Z
LAST-MODIFIED:20210928T200305Z
UID:1690-1633375800-1633381200@wp.conejovalleyaudubon.org
SUMMARY:Monthly Program - October 2021
DESCRIPTION:THE WONDERFUL LIFE OF A DYING TREE\nA dead tree needlessly cut down and hauled away is a tree deprived of half its life value and commendable destiny. Gillian Martin’s presentation unveils the habitat value of dead trees. She persuasively illustrates their contribution to the health and sustainability of forests\, yes\, even the urban forest. Attendees will learn what to consider when selecting and converting a hazardous tree as a habitat tree. They will forever view a dead tree with greater interest and appreciation. \nAs a passionate bird advocate\, naturalist\, public speaker and writer\, Gillian Martin has invested the last 20 years advocating for birds. One of her earliest missions was to establish the Cavity Conservation Initiative to encourage the safe retention of dead trees as habitat. She is also the cofounder of Tree Care for Birds and other Wildlife Program of the Western Chapter International Society of Arboriculture. Her articles have been published in numerous professional journals and newsletters. \nTo attend this meeting\, use this link: https://zoom.us/j/6155249106
URL:https://wp.conejovalleyaudubon.org/event/monthly-program-october-2021/
CATEGORIES:Monthly Program
END:VEVENT
BEGIN:VEVENT
DTSTART;TZID=America/Los_Angeles:20211010T080000
DTEND;TZID=America/Los_Angeles:20211010T110000
DTSTAMP:20260421T094707
CREATED:20210924T161322Z
LAST-MODIFIED:20210924T161701Z
UID:1692-1633852800-1633863600@wp.conejovalleyaudubon.org
SUMMARY:Canada Larga
DESCRIPTION:Meet at the start of Cañada Larga Road at 8 am. \nWe will look for sparrows\, sapsuckers\, raptors and other various field birds. This is car birding with several stops. Bring masks and water. \nLeader is Dee Lyon\, (805) 427-0987.
URL:https://wp.conejovalleyaudubon.org/event/canada-larga/
LOCATION:Canada Larga Road\, 180 Canada Larga Rd\, Ventura\, CA\, 93001
CATEGORIES:Field Trips
END:VEVENT
BEGIN:VEVENT
DTSTART;TZID=America/Los_Angeles:20211013T080000
DTEND;TZID=America/Los_Angeles:20211013T093000
DTSTAMP:20260421T094707
CREATED:20210804T195316Z
LAST-MODIFIED:20210804T195316Z
UID:1468-1634112000-1634117400@wp.conejovalleyaudubon.org
SUMMARY:Beginner Bird Walk - Rancho Sierra Vista / Satwiwa
DESCRIPTION:Conejo Valley Audubon invites birders of all experience levels to attend our monthly Beginner Bird Walks at Rancho Sierra Vista/Satwiwa. These walks are held on the second Wednesday of each month. We will meet at 8:00 am at the main parking lot\, which is accessible off Lynn Road at Via Goleta in Newbury Park. \n  Rancho Sierra Vista is an excellent place to see many of the oak woodlands birds that are common in the Conejo Valley area. We will take time to introduce beginning birders to these species and will teach the best techniques for locating and identifying them. Wear comfortable walking shoes. \nPlease register in advance by contacting walk leader Richard Armerding at (310) 701-3878 (texting is OK).
URL:https://wp.conejovalleyaudubon.org/event/beginner-bird-walk-rancho-sierra-vista-satwiwa-12/
LOCATION:Rancho Sierra Vista / Satwiwa\, 4803 Lynn Rd\, Newbury Park\, CA\, 91320
CATEGORIES:Field Trips
END:VEVENT
BEGIN:VEVENT
DTSTART;TZID=America/Los_Angeles:20211016T080000
DTEND;TZID=America/Los_Angeles:20211016T110000
DTSTAMP:20260421T094707
CREATED:20210924T162706Z
LAST-MODIFIED:20210924T162706Z
UID:1698-1634371200-1634382000@wp.conejovalleyaudubon.org
SUMMARY:Hill Canyon
DESCRIPTION:Meet at Hill Canyon Park at 8 am. \nWe will look for White-throated Swifts\, sparrows and oak woodland birds. Bring masks and water. \nLeader is Bonnie Clarfield Bylin (805) 405-5632
URL:https://wp.conejovalleyaudubon.org/event/hill-canyon/
LOCATION:Hill Canyon\, Hill Canyon Rd\, Camarillo\, CA\, 93012
CATEGORIES:Field Trips
END:VEVENT
BEGIN:VEVENT
DTSTART;TZID=America/Los_Angeles:20211024T080000
DTEND;TZID=America/Los_Angeles:20211024T100000
DTSTAMP:20260421T094707
CREATED:20210924T163255Z
LAST-MODIFIED:20210924T163255Z
UID:1700-1635062400-1635069600@wp.conejovalleyaudubon.org
SUMMARY:Bob Kildee Community Park Tams
DESCRIPTION:We will visit the renowned tamarisk trees along the east edge of Bob Kildee Community Park. Previous October visits have yielded views of Black-and-White\, Tenessee\, Orange-crowned\, Lucy’s\, Nashville\, MacGillivray’s\, Magnolia\, Bay-breasted\, Blackburnian\, Yellow\, Chestnut-sided\, Blackpoll\, Palm\, Yellow-rumped\, Prairie\, Black-throated Gray\, Townsend’s\, Hermit\, and Wilson’s Warblers. We might also encounter Downy Woodpecker\, \nWestern Wood-Pewee\, Pacific-slope Flycatcher\, Warbling Vireo\, Ruby and Golden-crowned Kinglet\, Red- and White-breasted Nuthatch\, Cedar Waxwing\, and Western Meadowlark. Meet at the southeast corner of the tennis courts (along Eston Street). \nBring a mask and water. \nTrip leader: Linda Easter (818) 519-2833
URL:https://wp.conejovalleyaudubon.org/event/bob-kildee-community-park-tams-2/
LOCATION:Bob Kildee Community Park – Tamarisk Trees\, 1051 Eston St.\, Camarillo\, CA\, 93010\, United States
CATEGORIES:Field Trips
END:VEVENT
BEGIN:VEVENT
DTSTART;TZID=America/Los_Angeles:20211031T080000
DTEND;TZID=America/Los_Angeles:20211031T110000
DTSTAMP:20260421T094707
CREATED:20210928T195330Z
LAST-MODIFIED:20210928T195330Z
UID:1716-1635667200-1635678000@wp.conejovalleyaudubon.org
SUMMARY:Ventura Settling Ponds
DESCRIPTION:Meet at the gate at 8 am. \nWe will look for water birds and warblers. Bring masks and water. \nLeader is Frank de Martino (856) 906-8733
URL:https://wp.conejovalleyaudubon.org/event/ventura-settling-ponds/
LOCATION:Ventura Settling Ponds\, 1400 Angler Ct.\, Ventura\, CA\, 93001\, United States
END:VEVENT
END:VCALENDAR