BEGIN:VCALENDAR
VERSION:2.0
PRODID:-//Conejo Valley Audubon - ECPv6.15.17.1//NONSGML v1.0//EN
CALSCALE:GREGORIAN
METHOD:PUBLISH
X-ORIGINAL-URL:https://wp.conejovalleyaudubon.org
X-WR-CALDESC:Events for Conejo Valley Audubon
REFRESH-INTERVAL;VALUE=DURATION:PT1H
X-Robots-Tag:noindex
X-PUBLISHED-TTL:PT1H
BEGIN:VTIMEZONE
TZID:America/Los_Angeles
BEGIN:DAYLIGHT
TZOFFSETFROM:-0800
TZOFFSETTO:-0700
TZNAME:PDT
DTSTART:20200308T100000
END:DAYLIGHT
BEGIN:STANDARD
TZOFFSETFROM:-0700
TZOFFSETTO:-0800
TZNAME:PST
DTSTART:20201101T090000
END:STANDARD
BEGIN:DAYLIGHT
TZOFFSETFROM:-0800
TZOFFSETTO:-0700
TZNAME:PDT
DTSTART:20210314T100000
END:DAYLIGHT
BEGIN:STANDARD
TZOFFSETFROM:-0700
TZOFFSETTO:-0800
TZNAME:PST
DTSTART:20211107T090000
END:STANDARD
BEGIN:DAYLIGHT
TZOFFSETFROM:-0800
TZOFFSETTO:-0700
TZNAME:PDT
DTSTART:20220313T100000
END:DAYLIGHT
BEGIN:STANDARD
TZOFFSETFROM:-0700
TZOFFSETTO:-0800
TZNAME:PST
DTSTART:20221106T090000
END:STANDARD
END:VTIMEZONE
BEGIN:VEVENT
DTSTART;TZID=America/Los_Angeles:20210904T080000
DTEND;TZID=America/Los_Angeles:20210904T110000
DTSTAMP:20260421T150227
CREATED:20210823T002419Z
LAST-MODIFIED:20210825T162353Z
UID:1548-1630742400-1630753200@wp.conejovalleyaudubon.org
SUMMARY:Santa Clara River Estuary
DESCRIPTION:The Santa Clara River Estuary produces some of the most diverse observations of ducks\, sandpipers\, terns\, gulls\, plovers and other shorebirds in the county. We’ll meet at Surfer’s Knoll at 9 am and walk down to the estuary after peeking over the fence into the Ventura Settling Ponds. The estuary should be a great place to see Elegant\, Forster’s and Caspian Terns\, Brown Pelicans\, Western\, California\, and Ring-billed Gulls\, Ruddy Ducks\, Whimbrels\, Long-billed Curlews\, American Avocets\, and Western & Least Sandpipers. We may even spot a Peregrine Falcon. \n \nDirections: from the 101 freeway\, exit Seaward Ave. and proceed south to Harbor Blvd. Turn left and continue to Spinnaker Dr.\, turning right to enter the harbor area. Drive past the Surfer’s Knoll parking area on the left and make a U-turn to double back and enter the parking lot. \nWalk leader: Kay Regester. \nPlease bring water\, a snack\, bug repellant and a jacket. YOU MUST WEAR A MASK! RAIN CANCELS \nEveryone is welcome to attend any Conejo Valley Audubon field trip\, but Conejo Valley Audubon assumes no responsibility for injuries\, personal or otherwise\, incurred while attending a CVAS sponsored activity and in order to attend\, all attendees agree that CVAS is not liable for such accidents. Everyone attends at their own risk.
URL:https://wp.conejovalleyaudubon.org/event/santa-clara-river-estuary/
LOCATION:Surfer’s Knoll\, 1600 Spinnaker Dr\, Ventura\, CA\, 93001
CATEGORIES:Field Trips
END:VEVENT
BEGIN:VEVENT
DTSTART;TZID=America/Los_Angeles:20210908T080000
DTEND;TZID=America/Los_Angeles:20210908T093000
DTSTAMP:20260421T150227
CREATED:20210804T195249Z
LAST-MODIFIED:20210804T195249Z
UID:1466-1631088000-1631093400@wp.conejovalleyaudubon.org
SUMMARY:Beginner Bird Walk - Rancho Sierra Vista / Satwiwa
DESCRIPTION:Conejo Valley Audubon invites birders of all experience levels to attend our monthly Beginner Bird Walks at Rancho Sierra Vista/Satwiwa. These walks are held on the second Wednesday of each month. We will meet at 8:00 am at the main parking lot\, which is accessible off Lynn Road at Via Goleta in Newbury Park. \n  Rancho Sierra Vista is an excellent place to see many of the oak woodlands birds that are common in the Conejo Valley area. We will take time to introduce beginning birders to these species and will teach the best techniques for locating and identifying them. Wear comfortable walking shoes. \nPlease register in advance by contacting walk leader Richard Armerding at (310) 701-3878 (texting is OK).
URL:https://wp.conejovalleyaudubon.org/event/beginner-bird-walk-rancho-sierra-vista-satwiwa-11/
LOCATION:Rancho Sierra Vista / Satwiwa\, 4803 Lynn Rd\, Newbury Park\, CA\, 91320
CATEGORIES:Field Trips
END:VEVENT
BEGIN:VEVENT
DTSTART;TZID=America/Los_Angeles:20210912T080000
DTEND;TZID=America/Los_Angeles:20210912T100000
DTSTAMP:20260421T150227
CREATED:20210823T003235Z
LAST-MODIFIED:20210825T162314Z
UID:1550-1631433600-1631440800@wp.conejovalleyaudubon.org
SUMMARY:Laguna Tams
DESCRIPTION:We will visit the renowned tamarisk trees along Laguna Road in the Oxnard Plain. Previous October visits have yielded views of Black-and-White\, Tenessee\, Orange-crowned\, Lucy’s\, Nashville\, MacGillivray’s\, Magnolia\, Bay-breasted\, Blackburnian\, Yellow\, Chestnut-sided\, Blackpoll\, Palm\, Yellow-rumped\, Prairie\, Black-throated Gray\, Townsend’s\, Hermit\, and Wilson’s Warblers. We might also encounter Pacific-slope Flycatcher\, Warbling Vireo\, Ruby-crowned Kinglet and White-breasted Nuthatch. Meet on Laguna Road\, about a quarter mile east of Pleasant Valley Road. \nTrip Leader: Frank DeMartino \nPlease bring water\, a snack\, bug repellant and a jacket. YOU MUST WEAR A MASK! RAIN CANCELS \nEveryone is welcome to attend any Conejo Valley Audubon field trip\, but Conejo Valley Audubon assumes no responsibility for injuries\, personal or otherwise\, incurred while attending a CVAS sponsored activity and in order to attend\, all attendees agree that CVAS is not liable for such accidents. Everyone attends at their own risk.
URL:https://wp.conejovalleyaudubon.org/event/laguna-tams/
LOCATION:Laguna Road Tamarisk Trees\, 3690 Laguna Rd.\, Oxnard\, CA\, 93033\, United States
CATEGORIES:Field Trips
END:VEVENT
BEGIN:VEVENT
DTSTART;TZID=America/Los_Angeles:20210913T193000
DTEND;TZID=America/Los_Angeles:20210913T210000
DTSTAMP:20260421T150227
CREATED:20210504T204949Z
LAST-MODIFIED:20210825T160244Z
UID:1339-1631561400-1631566800@wp.conejovalleyaudubon.org
SUMMARY:Monthly Program - September 2021
DESCRIPTION:Each September\, our first meeting of the season is dedicated to the birding trips and adventures of our members\, so you are invited to submit your recent\, or not-so-recent photos. As has become our habit\, this year’s Show & Tell will be again conducted over Zoom. Those of you who wish to share your photos\, please contact Don Klabunde for instructions and the link where you can upload your files. You will be able to narrate your show during the Zoom meeting. \nTo attend this meeting\, use this link: https://zoom.us/j/6155249106
URL:https://wp.conejovalleyaudubon.org/event/monthly-program-september-2021/
CATEGORIES:Monthly Program
END:VEVENT
BEGIN:VEVENT
DTSTART;TZID=America/Los_Angeles:20210918T080000
DTEND;TZID=America/Los_Angeles:20210918T110000
DTSTAMP:20260421T150227
CREATED:20210824T195756Z
LAST-MODIFIED:20210825T162249Z
UID:1568-1631952000-1631962800@wp.conejovalleyaudubon.org
SUMMARY:Mugu Lagoon and Sycamore Canyon
DESCRIPTION:Meet at the big lagoon turnout on PCH. There should be water birds\, ducks and raptors. Then to lower Sycamore Canyon\, famous for vagrants\, warblers and raptors. \nPhoto by Don Klabunde\n \nCalifornia Thrasher\nTrip Leader: Matthew Page \nPlease bring water\, a snack\, bug repellant and a jacket. YOU MUST WEAR A MASK! RAIN CANCELS \nEveryone is welcome to attend any Conejo Valley Audubon field trip\, but Conejo Valley Audubon assumes no responsibility for injuries\, personal or otherwise\, incurred while attending a CVAS sponsored activity and in order to attend\, all attendees agree that CVAS is not liable for such accidents. Everyone attends at their own risk.
URL:https://wp.conejovalleyaudubon.org/event/mugu-lagoon-and-sycamore-canyon/
LOCATION:Mugu Lagoon Turnout\, 5735 CA-1\, Oxnard\, California\, 93033
CATEGORIES:Field Trips
END:VEVENT
BEGIN:VEVENT
DTSTART;TZID=America/Los_Angeles:20210926T080000
DTEND;TZID=America/Los_Angeles:20210926T170000
DTSTAMP:20260421T150227
CREATED:20210825T160554Z
LAST-MODIFIED:20210825T162222Z
UID:1592-1632643200-1632675600@wp.conejovalleyaudubon.org
SUMMARY:Camino Real Park
DESCRIPTION:Hopefully some vagrant warblers will appear as well as the usual cast of characters. \n \nTrip Leader is Dee Lyon \nPlease bring water\, a snack\, bug repellant and a jacket. YOU MUST WEAR A MASK! RAIN CANCELS \nEveryone is welcome to attend any Conejo Valley Audubon field trip\, but Conejo Valley Audubon assumes no responsibility for injuries\, personal or otherwise\, incurred while attending a CVAS sponsored activity and in order to attend\, all attendees agree that CVAS is not liable for such accidents. Everyone attends at their own risk.
URL:https://wp.conejovalleyaudubon.org/event/camino-real-park/
LOCATION:Camino Real Park\, 4298 Dean Dr.\, Ventura\, CA\, 93003
CATEGORIES:Field Trips
END:VEVENT
END:VCALENDAR