BEGIN:VCALENDAR
VERSION:2.0
PRODID:-//Conejo Valley Audubon - ECPv6.15.17.1//NONSGML v1.0//EN
CALSCALE:GREGORIAN
METHOD:PUBLISH
X-ORIGINAL-URL:https://wp.conejovalleyaudubon.org
X-WR-CALDESC:Events for Conejo Valley Audubon
REFRESH-INTERVAL;VALUE=DURATION:PT1H
X-Robots-Tag:noindex
X-PUBLISHED-TTL:PT1H
BEGIN:VTIMEZONE
TZID:America/Los_Angeles
BEGIN:DAYLIGHT
TZOFFSETFROM:-0800
TZOFFSETTO:-0700
TZNAME:PDT
DTSTART:20200308T100000
END:DAYLIGHT
BEGIN:STANDARD
TZOFFSETFROM:-0700
TZOFFSETTO:-0800
TZNAME:PST
DTSTART:20201101T090000
END:STANDARD
BEGIN:DAYLIGHT
TZOFFSETFROM:-0800
TZOFFSETTO:-0700
TZNAME:PDT
DTSTART:20210314T100000
END:DAYLIGHT
BEGIN:STANDARD
TZOFFSETFROM:-0700
TZOFFSETTO:-0800
TZNAME:PST
DTSTART:20211107T090000
END:STANDARD
BEGIN:DAYLIGHT
TZOFFSETFROM:-0800
TZOFFSETTO:-0700
TZNAME:PDT
DTSTART:20220313T100000
END:DAYLIGHT
BEGIN:STANDARD
TZOFFSETFROM:-0700
TZOFFSETTO:-0800
TZNAME:PST
DTSTART:20221106T090000
END:STANDARD
END:VTIMEZONE
BEGIN:VEVENT
DTSTART;TZID=America/Los_Angeles:20210405T193000
DTEND;TZID=America/Los_Angeles:20210405T210000
DTSTAMP:20260425T054925
CREATED:20210216T022012Z
LAST-MODIFIED:20210402T153627Z
UID:1182-1617651000-1617656400@wp.conejovalleyaudubon.org
SUMMARY:Monthly Program - April 2021
DESCRIPTION:Everything There Is To Know About Catios\n\nCats kill billions of birds and small animals annually. The outdoors are also perilous for cats. But relegating cats to the indoors can lead to unhappy felines with behavioral issues. Catios – cat patios or enclosures – are the most humane way to allow feline family members to experience the outdoors safely. This presentation will cover nearly everything there is to know about catios — including best practices\, tips\, and types of recommended materials. There will also be time for questions at the end.\n\nAlan Breslauer\n\n\n\nAlan Breslauer\, AKA Catio Guy on social media\, launched Custom Catios in 2017 to serve cat guardians throughout Los Angeles\, Orange County\, and the surrounding areas. Catio Guy has worked with cat world luminaries Jackson Galaxy and Kitten Lady\, rescues including CatCafe Lounge and Lange Foundation\, and hundreds of feline families. An industry innovator\, he relishes the opportunity to share his knowledge and expertise so that more fur-balls can experience the joy of the outdoors safely.\n\nThis will be an online meeting by way of Zoom: https://zoom.us/j/6155249106
URL:https://wp.conejovalleyaudubon.org/event/monthly-program-april-2021/
LOCATION:CVAS Monthly Program Zoom Meeting
CATEGORIES:Monthly Program
END:VEVENT
BEGIN:VEVENT
DTSTART;TZID=America/Los_Angeles:20210414T080000
DTEND;TZID=America/Los_Angeles:20210414T093000
DTSTAMP:20260425T054925
CREATED:20210216T022317Z
LAST-MODIFIED:20210216T022317Z
UID:1187-1618387200-1618392600@wp.conejovalleyaudubon.org
SUMMARY:Beginner Bird Walk - Rancho Sierra Vista / Satwiwa
DESCRIPTION:Conejo Valley Audubon invites birders of all experience levels to attend our monthly Beginner Bird Walks at Rancho Sierra Vista/Satwiwa. These walks are held on the second Wednesday of each month. We will meet at 8:00 am at the main parking lot\, which is accessible off Lynn Road at Via Goleta in Newbury Park. \n  Rancho Sierra Vista is an excellent place to see many of the oak woodlands birds that are common in the Conejo Valley area. We will take time to introduce beginning birders to these species and will teach the best techniques for locating and identifying them. Wear comfortable walking shoes. \nPlease register in advance by contacting walk leader Richard Armerding at (310) 701-3878 (texting is OK).
URL:https://wp.conejovalleyaudubon.org/event/beginner-bird-walk-rancho-sierra-vista-satwiwa-6/
LOCATION:Rancho Sierra Vista / Satwiwa\, 4803 Lynn Rd\, Newbury Park\, CA\, 91320
CATEGORIES:Field Trips
END:VEVENT
END:VCALENDAR