BEGIN:VCALENDAR
VERSION:2.0
PRODID:-//Conejo Valley Audubon - ECPv6.15.17.1//NONSGML v1.0//EN
CALSCALE:GREGORIAN
METHOD:PUBLISH
X-ORIGINAL-URL:https://wp.conejovalleyaudubon.org
X-WR-CALDESC:Events for Conejo Valley Audubon
REFRESH-INTERVAL;VALUE=DURATION:PT1H
X-Robots-Tag:noindex
X-PUBLISHED-TTL:PT1H
BEGIN:VTIMEZONE
TZID:America/Los_Angeles
BEGIN:DAYLIGHT
TZOFFSETFROM:-0800
TZOFFSETTO:-0700
TZNAME:PDT
DTSTART:20200308T100000
END:DAYLIGHT
BEGIN:STANDARD
TZOFFSETFROM:-0700
TZOFFSETTO:-0800
TZNAME:PST
DTSTART:20201101T090000
END:STANDARD
BEGIN:DAYLIGHT
TZOFFSETFROM:-0800
TZOFFSETTO:-0700
TZNAME:PDT
DTSTART:20210314T100000
END:DAYLIGHT
BEGIN:STANDARD
TZOFFSETFROM:-0700
TZOFFSETTO:-0800
TZNAME:PST
DTSTART:20211107T090000
END:STANDARD
BEGIN:DAYLIGHT
TZOFFSETFROM:-0800
TZOFFSETTO:-0700
TZNAME:PDT
DTSTART:20220313T100000
END:DAYLIGHT
BEGIN:STANDARD
TZOFFSETFROM:-0700
TZOFFSETTO:-0800
TZNAME:PST
DTSTART:20221106T090000
END:STANDARD
END:VTIMEZONE
BEGIN:VEVENT
DTSTART;TZID=America/Los_Angeles:20210201T193000
DTEND;TZID=America/Los_Angeles:20210201T210000
DTSTAMP:20260425T173148
CREATED:20210113T024540Z
LAST-MODIFIED:20210113T024540Z
UID:1121-1612207800-1612213200@wp.conejovalleyaudubon.org
SUMMARY:Monthly Program - February 2021
DESCRIPTION:A “DO-IT-YOURSELF” BIRDING TOUR THROUGH SPAIN\nPhoto by Bonnie Clarfield-Bylin\nWhat do you do when your precious camera breaks halfway through a five-week adventure? When in Spain\, you drown your sorrows with red wine and lift your spirits with tapas and sangria. You continue with one less thing to carry during outings\, but with the reflection of how glad you are that your trip plan included some of the best birding in Europe. \nCVAS member\, naturalist and world birder Bonnie Clarfield-Bylin will take you on a bird-centric journey though the interesting regions of Spain she and her husband Stephen encountered as they journeyed in a clockwise circuit along the perimeter of the country from Catalonia through Andalusia to the Extremadura before the camera failed. The northern perimeter of Spain will need a do-over! \nSince her retirement as a National Park Service Park Ranger\, Bonnie has become an experienced travel planner. She has arranged do-it-yourself nature-oriented trips to Columbia\, Vietnam\, Brazil\, Ireland\, Scotland\, Florida\, Arizona and Texas among others\, and looks forward to traveling in search of birds and wild-places again. \nThis will be an online meeting by way of Zoom: https://zoom.us/j/6155249106
URL:https://wp.conejovalleyaudubon.org/event/monthly-program-february-2021/
LOCATION:CVAS Monthly Program Zoom Meeting
CATEGORIES:Monthly Program
END:VEVENT
BEGIN:VEVENT
DTSTART;TZID=America/Los_Angeles:20210210T080000
DTEND;TZID=America/Los_Angeles:20210210T093000
DTSTAMP:20260425T173148
CREATED:20210113T024743Z
LAST-MODIFIED:20210202T021108Z
UID:1126-1612944000-1612949400@wp.conejovalleyaudubon.org
SUMMARY:Beginner Bird Walk - Rancho Sierra Vista / Satwiwa
DESCRIPTION:Conejo Valley Audubon invites birders of all experience levels to attend our monthly Beginner Bird Walks at Rancho Sierra Vista/Satwiwa. These walks are held on the second Wednesday of each month. We will meet at 8:00 am at the main parking lot\, which is accessible off Lynn Road at Via Goleta in Newbury Park. \n  Rancho Sierra Vista is an excellent place to see many of the oak woodlands birds that are common in the Conejo Valley area. We will take time to introduce beginning birders to these species and will teach the best techniques for locating and identifying them. Wear comfortable walking shoes. \nPlease register in advance by contacting walk leader Richard Armerding at (310) 701-3878 (texting is OK).
URL:https://wp.conejovalleyaudubon.org/event/beginner-bird-walk-rancho-sierra-vista-satwiwa-canceled/
LOCATION:Rancho Sierra Vista / Satwiwa\, 4803 Lynn Rd\, Newbury Park\, CA\, 91320
CATEGORIES:Field Trips
END:VEVENT
END:VCALENDAR