BEGIN:VCALENDAR
VERSION:2.0
PRODID:-//Conejo Valley Audubon - ECPv6.15.17.1//NONSGML v1.0//EN
CALSCALE:GREGORIAN
METHOD:PUBLISH
X-ORIGINAL-URL:https://wp.conejovalleyaudubon.org
X-WR-CALDESC:Events for Conejo Valley Audubon
REFRESH-INTERVAL;VALUE=DURATION:PT1H
X-Robots-Tag:noindex
X-PUBLISHED-TTL:PT1H
BEGIN:VTIMEZONE
TZID:America/Los_Angeles
BEGIN:DAYLIGHT
TZOFFSETFROM:-0800
TZOFFSETTO:-0700
TZNAME:PDT
DTSTART:20250309T100000
END:DAYLIGHT
BEGIN:STANDARD
TZOFFSETFROM:-0700
TZOFFSETTO:-0800
TZNAME:PST
DTSTART:20251102T090000
END:STANDARD
BEGIN:DAYLIGHT
TZOFFSETFROM:-0800
TZOFFSETTO:-0700
TZNAME:PDT
DTSTART:20260308T100000
END:DAYLIGHT
BEGIN:STANDARD
TZOFFSETFROM:-0700
TZOFFSETTO:-0800
TZNAME:PST
DTSTART:20261101T090000
END:STANDARD
BEGIN:DAYLIGHT
TZOFFSETFROM:-0800
TZOFFSETTO:-0700
TZNAME:PDT
DTSTART:20270314T100000
END:DAYLIGHT
BEGIN:STANDARD
TZOFFSETFROM:-0700
TZOFFSETTO:-0800
TZNAME:PST
DTSTART:20271107T090000
END:STANDARD
END:VTIMEZONE
BEGIN:VEVENT
DTSTART;TZID=America/Los_Angeles:20260504T190000
DTEND;TZID=America/Los_Angeles:20260504T203000
DTSTAMP:20260423T065408
CREATED:20260418T022339Z
LAST-MODIFIED:20260418T022340Z
UID:12555-1777921200-1777926600@wp.conejovalleyaudubon.org
SUMMARY:May Program-Public Lands
DESCRIPTION:Public Lands\n\n\n\nRussell Galipeau will take us back in time to the establishment of federal lands\, the role Congress and the President play\, the agencies we have entrusted to care for them\, and the threats they face. \n\n\n\nRussell Galipeau is a member of the Conejo Valley Audubon Society. He has served 40 years with the National Park Service. His last assignment was Channel Islands National Park. He currently serves on the Boards of Directors for The Coalition to Protect America’s National Parks and the Ventura Land Trust. \n\n\n\nSEE PROGRAMS PAGE
URL:https://wp.conejovalleyaudubon.org/event/may-program-public-lands/
CATEGORIES:Monthly Program
END:VEVENT
END:VCALENDAR