BEGIN:VCALENDAR
VERSION:2.0
PRODID:-//Conejo Valley Audubon - ECPv6.15.17.1//NONSGML v1.0//EN
CALSCALE:GREGORIAN
METHOD:PUBLISH
X-ORIGINAL-URL:https://wp.conejovalleyaudubon.org
X-WR-CALDESC:Events for Conejo Valley Audubon
REFRESH-INTERVAL;VALUE=DURATION:PT1H
X-Robots-Tag:noindex
X-PUBLISHED-TTL:PT1H
BEGIN:VTIMEZONE
TZID:America/Los_Angeles
BEGIN:DAYLIGHT
TZOFFSETFROM:-0800
TZOFFSETTO:-0700
TZNAME:PDT
DTSTART:20240310T100000
END:DAYLIGHT
BEGIN:STANDARD
TZOFFSETFROM:-0700
TZOFFSETTO:-0800
TZNAME:PST
DTSTART:20241103T090000
END:STANDARD
BEGIN:DAYLIGHT
TZOFFSETFROM:-0800
TZOFFSETTO:-0700
TZNAME:PDT
DTSTART:20250309T100000
END:DAYLIGHT
BEGIN:STANDARD
TZOFFSETFROM:-0700
TZOFFSETTO:-0800
TZNAME:PST
DTSTART:20251102T090000
END:STANDARD
BEGIN:DAYLIGHT
TZOFFSETFROM:-0800
TZOFFSETTO:-0700
TZNAME:PDT
DTSTART:20260308T100000
END:DAYLIGHT
BEGIN:STANDARD
TZOFFSETFROM:-0700
TZOFFSETTO:-0800
TZNAME:PST
DTSTART:20261101T090000
END:STANDARD
END:VTIMEZONE
BEGIN:VEVENT
DTSTART;TZID=America/Los_Angeles:20250518T080000
DTEND;TZID=America/Los_Angeles:20250518T173000
DTSTAMP:20260419T050249
CREATED:20250418T230903Z
LAST-MODIFIED:20250419T220410Z
UID:8808-1747555200-1747589400@wp.conejovalleyaudubon.org
SUMMARY:🏝️Island Scrub-Jay Pelagic trip to Santa Cruz Island
DESCRIPTION:This trip is organized by Island Packers\, not CVAS.  Tickets must be purchased through them either on the Island Packers website https://islandpackers.com/oxnard-to-scrub-jay/ or call (805) 642-1393. The cost is $138 per person. Leaves from Oxnard Harbor. Please arrive at 7:15 a.m.\, 45 minutes prior to depature. \n\n\n\nWe will take our time on our way over to the island\, looking for shearwaters\, alcids\, and other pelagic species. Once on the island\, we will spend an hour or so looking for the endemic Island Scrub-Jay and other unique island wildlife! Then\, we will spend the rest of the afternoon cruising around the Santa Barbara Channel looking for more birds and other wildlife.
URL:https://wp.conejovalleyaudubon.org/event/island-scrub-jay-pelagic-trip-to-santa-cruz-island/
LOCATION:Channel Islands Harbor (Oxnard)\, 3600 Harbor Blvd\, Oxnard\, CA\, 93035\, United States
CATEGORIES:Field Trips
ATTACH;FMTTYPE=image/jpeg:https://wp.conejovalleyaudubon.org/wp-content/uploads/2025/04/ISSJ.jpg
END:VEVENT
END:VCALENDAR