BEGIN:VCALENDAR
VERSION:2.0
PRODID:-//Conejo Valley Audubon - ECPv6.15.17.1//NONSGML v1.0//EN
CALSCALE:GREGORIAN
METHOD:PUBLISH
X-WR-CALNAME:Conejo Valley Audubon
X-ORIGINAL-URL:https://wp.conejovalleyaudubon.org
X-WR-CALDESC:Events for Conejo Valley Audubon
REFRESH-INTERVAL;VALUE=DURATION:PT1H
X-Robots-Tag:noindex
X-PUBLISHED-TTL:PT1H
BEGIN:VTIMEZONE
TZID:America/Los_Angeles
BEGIN:DAYLIGHT
TZOFFSETFROM:-0800
TZOFFSETTO:-0700
TZNAME:PDT
DTSTART:20240310T100000
END:DAYLIGHT
BEGIN:STANDARD
TZOFFSETFROM:-0700
TZOFFSETTO:-0800
TZNAME:PST
DTSTART:20241103T090000
END:STANDARD
BEGIN:DAYLIGHT
TZOFFSETFROM:-0800
TZOFFSETTO:-0700
TZNAME:PDT
DTSTART:20250309T100000
END:DAYLIGHT
BEGIN:STANDARD
TZOFFSETFROM:-0700
TZOFFSETTO:-0800
TZNAME:PST
DTSTART:20251102T090000
END:STANDARD
BEGIN:DAYLIGHT
TZOFFSETFROM:-0800
TZOFFSETTO:-0700
TZNAME:PDT
DTSTART:20260308T100000
END:DAYLIGHT
BEGIN:STANDARD
TZOFFSETFROM:-0700
TZOFFSETTO:-0800
TZNAME:PST
DTSTART:20261101T090000
END:STANDARD
END:VTIMEZONE
BEGIN:VEVENT
DTSTART;TZID=America/Los_Angeles:20250510T190000
DTEND;TZID=America/Los_Angeles:20250510T203000
DTSTAMP:20260419T065517
CREATED:20250418T230428Z
LAST-MODIFIED:20250510T220651Z
UID:8806-1746903600-1746909000@wp.conejovalleyaudubon.org
SUMMARY:🌃Two Rivers Park
DESCRIPTION:*Time change* \n\n\n\n\n\n\n\nMeet at Two Rivers Park at River and C Street in Fillmore at 6:30 pm in the evening. We will be going just before dusk to hopefully see nighthawks come out!  If you want\, we will meet at Daniel’s Gourmet Food Co. in Fillmore at 5 pm beforehand for food and drinks. \n\n\n\nTrip leader – Sammy Cowell (818) 470-7098
URL:https://wp.conejovalleyaudubon.org/event/two-rivers-park-2/
LOCATION:Two Rivers Park\, River St.\, Fillmore\, CA\, 93015
CATEGORIES:Field Trips
ATTACH;FMTTYPE=image/jpeg:https://wp.conejovalleyaudubon.org/wp-content/uploads/2025/04/LENI.jpg
END:VEVENT
END:VCALENDAR