BEGIN:VCALENDAR
VERSION:2.0
PRODID:-//Conejo Valley Audubon - ECPv6.15.17.1//NONSGML v1.0//EN
CALSCALE:GREGORIAN
METHOD:PUBLISH
X-ORIGINAL-URL:https://wp.conejovalleyaudubon.org
X-WR-CALDESC:Events for Conejo Valley Audubon
REFRESH-INTERVAL;VALUE=DURATION:PT1H
X-Robots-Tag:noindex
X-PUBLISHED-TTL:PT1H
BEGIN:VTIMEZONE
TZID:America/Los_Angeles
BEGIN:DAYLIGHT
TZOFFSETFROM:-0800
TZOFFSETTO:-0700
TZNAME:PDT
DTSTART:20240310T100000
END:DAYLIGHT
BEGIN:STANDARD
TZOFFSETFROM:-0700
TZOFFSETTO:-0800
TZNAME:PST
DTSTART:20241103T090000
END:STANDARD
BEGIN:DAYLIGHT
TZOFFSETFROM:-0800
TZOFFSETTO:-0700
TZNAME:PDT
DTSTART:20250309T100000
END:DAYLIGHT
BEGIN:STANDARD
TZOFFSETFROM:-0700
TZOFFSETTO:-0800
TZNAME:PST
DTSTART:20251102T090000
END:STANDARD
BEGIN:DAYLIGHT
TZOFFSETFROM:-0800
TZOFFSETTO:-0700
TZNAME:PDT
DTSTART:20260308T100000
END:DAYLIGHT
BEGIN:STANDARD
TZOFFSETFROM:-0700
TZOFFSETTO:-0800
TZNAME:PST
DTSTART:20261101T090000
END:STANDARD
END:VTIMEZONE
BEGIN:VEVENT
DTSTART;TZID=America/Los_Angeles:20250426T080000
DTEND;TZID=America/Los_Angeles:20250426T170000
DTSTAMP:20260419T124423
CREATED:20250305T070736Z
LAST-MODIFIED:20250315T214426Z
UID:8551-1745654400-1745686800@wp.conejovalleyaudubon.org
SUMMARY:🌵Big Morongo Canyon Preserve
DESCRIPTION:Big Morongo Preserve is one of the best places in southern California for migrant flycatchers\, warblers\, vireos\, and other species but also hosts some great breeding birds. We can expect to see (or hear) Summer and Western Tanagers\, Brown-crested and Vermilion Flycatchers\, Bullock’s and Hooded Orioles\, Yellow-Breasted Chat\, Bell’s Vireo\, as well as migrants and desert residents. Bring lunch\, snacks\, and plenty of water. In the afternoon we may look for Black-throated Sparrow and Scott’s Oriole.Meet at Covington Park. Take I-10 to Hwy 62\, go north 10 miles to Morongo Valley and then turn right on Park Avenue. Please contact \n\n\n\n Pete Robertshaw (909 771-9720) ahead of time if you are interested\, to better coordinate meeting times and carpools.
URL:https://wp.conejovalleyaudubon.org/event/%f0%9f%8c%b5big-morongo-canyon-preserve/
LOCATION:Big Morongo\, 11055 East Dr.\, Morongo Valley\, CA\, 92256\, United States
CATEGORIES:Field Trips
ATTACH;FMTTYPE=image/jpeg:https://wp.conejovalleyaudubon.org/wp-content/uploads/2025/03/google_place_photo.jpg
END:VEVENT
END:VCALENDAR