BEGIN:VCALENDAR
VERSION:2.0
PRODID:-//Conejo Valley Audubon - ECPv6.15.17.1//NONSGML v1.0//EN
CALSCALE:GREGORIAN
METHOD:PUBLISH
X-ORIGINAL-URL:https://wp.conejovalleyaudubon.org
X-WR-CALDESC:Events for Conejo Valley Audubon
REFRESH-INTERVAL;VALUE=DURATION:PT1H
X-Robots-Tag:noindex
X-PUBLISHED-TTL:PT1H
BEGIN:VTIMEZONE
TZID:America/Los_Angeles
BEGIN:DAYLIGHT
TZOFFSETFROM:-0800
TZOFFSETTO:-0700
TZNAME:PDT
DTSTART:20240310T100000
END:DAYLIGHT
BEGIN:STANDARD
TZOFFSETFROM:-0700
TZOFFSETTO:-0800
TZNAME:PST
DTSTART:20241103T090000
END:STANDARD
BEGIN:DAYLIGHT
TZOFFSETFROM:-0800
TZOFFSETTO:-0700
TZNAME:PDT
DTSTART:20250309T100000
END:DAYLIGHT
BEGIN:STANDARD
TZOFFSETFROM:-0700
TZOFFSETTO:-0800
TZNAME:PST
DTSTART:20251102T090000
END:STANDARD
BEGIN:DAYLIGHT
TZOFFSETFROM:-0800
TZOFFSETTO:-0700
TZNAME:PDT
DTSTART:20260308T100000
END:DAYLIGHT
BEGIN:STANDARD
TZOFFSETFROM:-0700
TZOFFSETTO:-0800
TZNAME:PST
DTSTART:20261101T090000
END:STANDARD
END:VTIMEZONE
BEGIN:VEVENT
DTSTART;TZID=America/Los_Angeles:20250315T080000
DTEND;TZID=America/Los_Angeles:20250315T110000
DTSTAMP:20260419T143555
CREATED:20250217T205043Z
LAST-MODIFIED:20250305T065714Z
UID:8468-1742025600-1742036400@wp.conejovalleyaudubon.org
SUMMARY:🦅Lake Casitas
DESCRIPTION:Thanks to Ojai Rotary Club\, we will be able to charter a small boat out onto the lake! Space is limited\, so please text Sammy at (818) 470-7098 or email him at fieldtrips@conejovalleyaudubon.org if you are interested in coming on this trip. Meet outside the lake entrance at 8:00 am\, and we’ll carpool in\, since the cost is $20 per car. \n\n\n\nTrip leaders: Sammy Cowell (818) 470-7098 and Jerry Maryniuk
URL:https://wp.conejovalleyaudubon.org/event/lake-casitas/
LOCATION:Lake Casitas\, 11311 Santa Ana Rd\, Ventura\, CA\, 93001\, United States
CATEGORIES:Field Trips
END:VEVENT
END:VCALENDAR