BEGIN:VCALENDAR
VERSION:2.0
PRODID:-//Conejo Valley Audubon - ECPv6.15.17.1//NONSGML v1.0//EN
CALSCALE:GREGORIAN
METHOD:PUBLISH
X-ORIGINAL-URL:https://wp.conejovalleyaudubon.org
X-WR-CALDESC:Events for Conejo Valley Audubon
REFRESH-INTERVAL;VALUE=DURATION:PT1H
X-Robots-Tag:noindex
X-PUBLISHED-TTL:PT1H
BEGIN:VTIMEZONE
TZID:America/Los_Angeles
BEGIN:DAYLIGHT
TZOFFSETFROM:-0800
TZOFFSETTO:-0700
TZNAME:PDT
DTSTART:20240310T100000
END:DAYLIGHT
BEGIN:STANDARD
TZOFFSETFROM:-0700
TZOFFSETTO:-0800
TZNAME:PST
DTSTART:20241103T090000
END:STANDARD
BEGIN:DAYLIGHT
TZOFFSETFROM:-0800
TZOFFSETTO:-0700
TZNAME:PDT
DTSTART:20250309T100000
END:DAYLIGHT
BEGIN:STANDARD
TZOFFSETFROM:-0700
TZOFFSETTO:-0800
TZNAME:PST
DTSTART:20251102T090000
END:STANDARD
BEGIN:DAYLIGHT
TZOFFSETFROM:-0800
TZOFFSETTO:-0700
TZNAME:PDT
DTSTART:20260308T100000
END:DAYLIGHT
BEGIN:STANDARD
TZOFFSETFROM:-0700
TZOFFSETTO:-0800
TZNAME:PST
DTSTART:20261101T090000
END:STANDARD
END:VTIMEZONE
BEGIN:VEVENT
DTSTART;TZID=America/Los_Angeles:20250203T090000
DTEND;TZID=America/Los_Angeles:20250203T120000
DTSTAMP:20260419T180004
CREATED:20231208T223457Z
LAST-MODIFIED:20241230T032030Z
UID:5456-1738573200-1738584000@wp.conejovalleyaudubon.org
SUMMARY:Bard Lake 🦢
DESCRIPTION:Bard Lake is a 230-acre reservoir operated by Calleguas Water District. After a brief introduction by the water district\, we will walk around the 3-mile loop around the reservoir looking at different duck and gull species (note: golf carts are available for those who would like them). The lake is typically closed to the public\, so this is a special treat for CVAS! Make sure to email fieldtrips@conejovalleyaudubon.org to complete the liability form! Trip leader – Sammy Cowell
URL:https://wp.conejovalleyaudubon.org/event/%f0%9f%9a%b0-bard-lake/
LOCATION:Bard Lake\, 2100 Olsen Rd\, Thousand Oaks\, CA\, 91360\, United States
CATEGORIES:Field Trips
ATTACH;FMTTYPE=image/jpeg:https://wp.conejovalleyaudubon.org/wp-content/uploads/2023/12/Bard_Lake.jpg
END:VEVENT
END:VCALENDAR