BEGIN:VCALENDAR
VERSION:2.0
PRODID:-//Conejo Valley Audubon - ECPv6.15.17.1//NONSGML v1.0//EN
CALSCALE:GREGORIAN
METHOD:PUBLISH
X-ORIGINAL-URL:https://wp.conejovalleyaudubon.org
X-WR-CALDESC:Events for Conejo Valley Audubon
REFRESH-INTERVAL;VALUE=DURATION:PT1H
X-Robots-Tag:noindex
X-PUBLISHED-TTL:PT1H
BEGIN:VTIMEZONE
TZID:America/Los_Angeles
BEGIN:DAYLIGHT
TZOFFSETFROM:-0800
TZOFFSETTO:-0700
TZNAME:PDT
DTSTART:20240310T100000
END:DAYLIGHT
BEGIN:STANDARD
TZOFFSETFROM:-0700
TZOFFSETTO:-0800
TZNAME:PST
DTSTART:20241103T090000
END:STANDARD
BEGIN:DAYLIGHT
TZOFFSETFROM:-0800
TZOFFSETTO:-0700
TZNAME:PDT
DTSTART:20250309T100000
END:DAYLIGHT
BEGIN:STANDARD
TZOFFSETFROM:-0700
TZOFFSETTO:-0800
TZNAME:PST
DTSTART:20251102T090000
END:STANDARD
BEGIN:DAYLIGHT
TZOFFSETFROM:-0800
TZOFFSETTO:-0700
TZNAME:PDT
DTSTART:20260308T100000
END:DAYLIGHT
BEGIN:STANDARD
TZOFFSETFROM:-0700
TZOFFSETTO:-0800
TZNAME:PST
DTSTART:20261101T090000
END:STANDARD
END:VTIMEZONE
BEGIN:VEVENT
DTSTART;TZID=America/Los_Angeles:20250124T080000
DTEND;TZID=America/Los_Angeles:20250124T130000
DTSTAMP:20260419T175938
CREATED:20241206T075500Z
LAST-MODIFIED:20241230T032055Z
UID:7889-1737705600-1737723600@wp.conejovalleyaudubon.org
SUMMARY:Pt. Mugu Naval Base ✈️🪖
DESCRIPTION:Join us as we explore Ventura County’s most biodiverse hotspot (please note\, that this trip is open to current CVAS members only). The Navy must background check each attendee before attendance\, so members will need to email fieldtrips@conejovalleyaudubon.org to complete and return the form by January 3rd! Also\, this trip lasts longer than our normal field trips (8 a.m. – 1 p.m.)\, and you are not allowed to be on the base without our trip leaders. So\, if you cannot make it the whole time\, please come another time. \n\n\n\nTarget species include Brant\, Black Skimmer\, shorebird species\, Vermillion Flycatcher\, and more! \n\n\n\nTrip Leaders – Martin Ruane and David Pereksta.  
URL:https://wp.conejovalleyaudubon.org/event/%e2%9c%88%ef%b8%8f%f0%9f%aa%96pt-mugu-naval-base/
LOCATION:Pt. Mugu Naval Base\, 10A Naval Air Rd.\, Port Hueneme\, CA\, 93041\, United States
CATEGORIES:Field Trips
ATTACH;FMTTYPE=image/png:https://wp.conejovalleyaudubon.org/wp-content/uploads/2024/12/point-mugu-3.png
END:VEVENT
END:VCALENDAR