BEGIN:VCALENDAR
VERSION:2.0
PRODID:-//Conejo Valley Audubon - ECPv6.15.17.1//NONSGML v1.0//EN
CALSCALE:GREGORIAN
METHOD:PUBLISH
X-ORIGINAL-URL:https://wp.conejovalleyaudubon.org
X-WR-CALDESC:Events for Conejo Valley Audubon
REFRESH-INTERVAL;VALUE=DURATION:PT1H
X-Robots-Tag:noindex
X-PUBLISHED-TTL:PT1H
BEGIN:VTIMEZONE
TZID:America/Los_Angeles
BEGIN:DAYLIGHT
TZOFFSETFROM:-0800
TZOFFSETTO:-0700
TZNAME:PDT
DTSTART:20230312T100000
END:DAYLIGHT
BEGIN:STANDARD
TZOFFSETFROM:-0700
TZOFFSETTO:-0800
TZNAME:PST
DTSTART:20231105T090000
END:STANDARD
BEGIN:DAYLIGHT
TZOFFSETFROM:-0800
TZOFFSETTO:-0700
TZNAME:PDT
DTSTART:20240310T100000
END:DAYLIGHT
BEGIN:STANDARD
TZOFFSETFROM:-0700
TZOFFSETTO:-0800
TZNAME:PST
DTSTART:20241103T090000
END:STANDARD
BEGIN:DAYLIGHT
TZOFFSETFROM:-0800
TZOFFSETTO:-0700
TZNAME:PDT
DTSTART:20250309T100000
END:DAYLIGHT
BEGIN:STANDARD
TZOFFSETFROM:-0700
TZOFFSETTO:-0800
TZNAME:PST
DTSTART:20251102T090000
END:STANDARD
END:VTIMEZONE
BEGIN:VEVENT
DTSTART;TZID=America/Los_Angeles:20241130T080000
DTEND;TZID=America/Los_Angeles:20241130T130000
DTSTAMP:20260419T234047
CREATED:20241007T171619Z
LAST-MODIFIED:20241120T140215Z
UID:7411-1732953600-1732971600@wp.conejovalleyaudubon.org
SUMMARY:🥾 Santa Paula Canyon
DESCRIPTION:*Disclaimer: This is a moderately difficult hike with multiple stream crossings. If you do not feel comfortable walking across wet rocks or up steep hills\, consider skipping this trip* \n\n\n\nNestled in the Topatopa Mountains between Santa Paula and Ojai\, Santa Paula Canyon feels like a retreat into the wild. Along the river\, we will be looking for American Dippers\, and along the cliffs\, we will be looking out for Golden Eagles. \n\n\n\nWe will meet at the trailhead which is past Thomas Aquinas college. Parking can be sometimes limited at the trailhead\, so carpooling is encouraged. \n\n\n\nTrip leader: Sammy Cowell (818) 470-7098
URL:https://wp.conejovalleyaudubon.org/event/%f0%9f%a5%be-santa-paula-canyon/
LOCATION:Santa Paula Canyon\, Santa Paula Canyon Trailhead\, Santa Paula\, California\, 93060\, United States
CATEGORIES:Field Trips
END:VEVENT
END:VCALENDAR