BEGIN:VCALENDAR
VERSION:2.0
PRODID:-//Conejo Valley Audubon - ECPv6.15.17.1//NONSGML v1.0//EN
CALSCALE:GREGORIAN
METHOD:PUBLISH
X-WR-CALNAME:Conejo Valley Audubon
X-ORIGINAL-URL:https://wp.conejovalleyaudubon.org
X-WR-CALDESC:Events for Conejo Valley Audubon
REFRESH-INTERVAL;VALUE=DURATION:PT1H
X-Robots-Tag:noindex
X-PUBLISHED-TTL:PT1H
BEGIN:VTIMEZONE
TZID:America/Los_Angeles
BEGIN:DAYLIGHT
TZOFFSETFROM:-0800
TZOFFSETTO:-0700
TZNAME:PDT
DTSTART:20230312T100000
END:DAYLIGHT
BEGIN:STANDARD
TZOFFSETFROM:-0700
TZOFFSETTO:-0800
TZNAME:PST
DTSTART:20231105T090000
END:STANDARD
BEGIN:DAYLIGHT
TZOFFSETFROM:-0800
TZOFFSETTO:-0700
TZNAME:PDT
DTSTART:20240310T100000
END:DAYLIGHT
BEGIN:STANDARD
TZOFFSETFROM:-0700
TZOFFSETTO:-0800
TZNAME:PST
DTSTART:20241103T090000
END:STANDARD
BEGIN:DAYLIGHT
TZOFFSETFROM:-0800
TZOFFSETTO:-0700
TZNAME:PDT
DTSTART:20250309T100000
END:DAYLIGHT
BEGIN:STANDARD
TZOFFSETFROM:-0700
TZOFFSETTO:-0800
TZNAME:PST
DTSTART:20251102T090000
END:STANDARD
END:VTIMEZONE
BEGIN:VEVENT
DTSTART;TZID=America/Los_Angeles:20241123T110000
DTEND;TZID=America/Los_Angeles:20241123T130000
DTSTAMP:20260420T123313
CREATED:20240918T030030Z
LAST-MODIFIED:20241122T045637Z
UID:7233-1732359600-1732366800@wp.conejovalleyaudubon.org
SUMMARY:🦅Group Falconry Experience
DESCRIPTION:If you’ve ever wanted to hold a bird of prey on your hand\, then this is the experience for you! We will be visiting Hawk on Hand Falconry Services in downtown Los Angeles to learn about the ancient art of falconry and get hands-on experience working with different raptor species! \n\n\n\nWe’ll meet 3 species (Jasper the Harris Hawk\, Kanoni the Augur Buzzard\, and Archie the Barn Owl). Each individual participant will get get to hold and fly multiple birds\, practicing basic falconry techniques. \n\n\n\nCost is $100 per participant\, and group size is limited to 15 people. We are still working on how to reserve/pay for our entire group. So\, please do not buy tickets just yet. Instead\, simply contact Sammy Cowell at fieldtrips@conejovalleyaudubon.org if you are interested! \n\n\n\nIf you want to carpool together\, we will meet at Kanan Park and Ride off the Kanan exit south of the 101 freeway at 9:30 a.m.
URL:https://wp.conejovalleyaudubon.org/event/%f0%9f%a6%85group-falconry-experience/
LOCATION:Hawk on Hand Falconry Services\, 4235 Monterey Rd\, Los Angeles\, California\, 90032\, United States
CATEGORIES:Field Trips
END:VEVENT
END:VCALENDAR