BEGIN:VCALENDAR
VERSION:2.0
PRODID:-//Conejo Valley Audubon - ECPv6.15.17.1//NONSGML v1.0//EN
CALSCALE:GREGORIAN
METHOD:PUBLISH
X-WR-CALNAME:Conejo Valley Audubon
X-ORIGINAL-URL:https://wp.conejovalleyaudubon.org
X-WR-CALDESC:Events for Conejo Valley Audubon
REFRESH-INTERVAL;VALUE=DURATION:PT1H
X-Robots-Tag:noindex
X-PUBLISHED-TTL:PT1H
BEGIN:VTIMEZONE
TZID:America/Los_Angeles
BEGIN:DAYLIGHT
TZOFFSETFROM:-0800
TZOFFSETTO:-0700
TZNAME:PDT
DTSTART:20230312T100000
END:DAYLIGHT
BEGIN:STANDARD
TZOFFSETFROM:-0700
TZOFFSETTO:-0800
TZNAME:PST
DTSTART:20231105T090000
END:STANDARD
BEGIN:DAYLIGHT
TZOFFSETFROM:-0800
TZOFFSETTO:-0700
TZNAME:PDT
DTSTART:20240310T100000
END:DAYLIGHT
BEGIN:STANDARD
TZOFFSETFROM:-0700
TZOFFSETTO:-0800
TZNAME:PST
DTSTART:20241103T090000
END:STANDARD
BEGIN:DAYLIGHT
TZOFFSETFROM:-0800
TZOFFSETTO:-0700
TZNAME:PDT
DTSTART:20250309T100000
END:DAYLIGHT
BEGIN:STANDARD
TZOFFSETFROM:-0700
TZOFFSETTO:-0800
TZNAME:PST
DTSTART:20251102T090000
END:STANDARD
END:VTIMEZONE
BEGIN:VEVENT
DTSTART;TZID=America/Los_Angeles:20241116T170000
DTEND;TZID=America/Los_Angeles:20241116T181500
DTSTAMP:20260424T100607
CREATED:20240502T063308Z
LAST-MODIFIED:20240919T201647Z
UID:5848-1731776400-1731780900@wp.conejovalleyaudubon.org
SUMMARY:🌯 Birds and Burritos
DESCRIPTION:Join us at 5 p.m. at Margaritas Mexican Grill for some delicious food and socializing before our evening field trip to look for owls! \nPlease text or call Sammy Cowell (818 470-7098) if you plan on coming so we can make a reservation.
URL:https://wp.conejovalleyaudubon.org/event/%f0%9f%8c%af-birds-and-burritos/
LOCATION:Margarita’s Mexican Grill\, 702 Lindero Canyon Rd\, Oak Park\, CA\, 91377\, United States
CATEGORIES:Birds and Burgers,Field Trips
END:VEVENT
END:VCALENDAR