BEGIN:VCALENDAR
VERSION:2.0
PRODID:-//Conejo Valley Audubon - ECPv6.15.17.1//NONSGML v1.0//EN
CALSCALE:GREGORIAN
METHOD:PUBLISH
X-ORIGINAL-URL:https://wp.conejovalleyaudubon.org
X-WR-CALDESC:Events for Conejo Valley Audubon
REFRESH-INTERVAL;VALUE=DURATION:PT1H
X-Robots-Tag:noindex
X-PUBLISHED-TTL:PT1H
BEGIN:VTIMEZONE
TZID:America/Los_Angeles
BEGIN:DAYLIGHT
TZOFFSETFROM:-0800
TZOFFSETTO:-0700
TZNAME:PDT
DTSTART:20240310T100000
END:DAYLIGHT
BEGIN:STANDARD
TZOFFSETFROM:-0700
TZOFFSETTO:-0800
TZNAME:PST
DTSTART:20241103T090000
END:STANDARD
BEGIN:DAYLIGHT
TZOFFSETFROM:-0800
TZOFFSETTO:-0700
TZNAME:PDT
DTSTART:20250309T100000
END:DAYLIGHT
BEGIN:STANDARD
TZOFFSETFROM:-0700
TZOFFSETTO:-0800
TZNAME:PST
DTSTART:20251102T090000
END:STANDARD
BEGIN:DAYLIGHT
TZOFFSETFROM:-0800
TZOFFSETTO:-0700
TZNAME:PDT
DTSTART:20260308T100000
END:DAYLIGHT
BEGIN:STANDARD
TZOFFSETFROM:-0700
TZOFFSETTO:-0800
TZNAME:PST
DTSTART:20261101T090000
END:STANDARD
END:VTIMEZONE
BEGIN:VEVENT
DTSTART;TZID=America/Los_Angeles:20250203T090000
DTEND;TZID=America/Los_Angeles:20250203T120000
DTSTAMP:20260419T142407
CREATED:20231208T223457Z
LAST-MODIFIED:20241230T032030Z
UID:5456-1738573200-1738584000@wp.conejovalleyaudubon.org
SUMMARY:Bard Lake 🦢
DESCRIPTION:Bard Lake is a 230-acre reservoir operated by Calleguas Water District. After a brief introduction by the water district\, we will walk around the 3-mile loop around the reservoir looking at different duck and gull species (note: golf carts are available for those who would like them). The lake is typically closed to the public\, so this is a special treat for CVAS! Make sure to email fieldtrips@conejovalleyaudubon.org to complete the liability form! Trip leader – Sammy Cowell
URL:https://wp.conejovalleyaudubon.org/event/%f0%9f%9a%b0-bard-lake/
LOCATION:Bard Lake\, 2100 Olsen Rd\, Thousand Oaks\, CA\, 91360\, United States
CATEGORIES:Field Trips
ATTACH;FMTTYPE=image/jpeg:https://wp.conejovalleyaudubon.org/wp-content/uploads/2023/12/Bard_Lake.jpg
END:VEVENT
BEGIN:VEVENT
DTSTART;TZID=America/Los_Angeles:20250208T080000
DTEND;TZID=America/Los_Angeles:20250208T110000
DTSTAMP:20260419T142407
CREATED:20240119T032938Z
LAST-MODIFIED:20241230T031936Z
UID:5558-1739001600-1739012400@wp.conejovalleyaudubon.org
SUMMARY:Lake Sherwood 🦆🏘️
DESCRIPTION:Look for waterfowl and oak woodland denizens at the foothills of the Santa Monica’s! Space is limited\, so call Bob Zwiegler (805) 496-0377 to get your name onto the list to get through the Stafford Rd. gate. Meet at 8 a.m.
URL:https://wp.conejovalleyaudubon.org/event/%f0%9f%a6%a2-lake-sherwood/
LOCATION:Lake Sherwood\, 2201 Stafford Rd.\, Westlake Village\, CA\, 91361
CATEGORIES:Field Trips
ATTACH;FMTTYPE=image/jpeg:https://wp.conejovalleyaudubon.org/wp-content/uploads/2024/01/Lake_Sherwood-1.jpg
END:VEVENT
BEGIN:VEVENT
DTSTART;TZID=America/Los_Angeles:20250222T000000
DTEND;TZID=America/Los_Angeles:20250222T235959
DTSTAMP:20260419T142407
CREATED:20240119T033108Z
LAST-MODIFIED:20241230T031923Z
UID:5560-1740182400-1740268799@wp.conejovalleyaudubon.org
SUMMARY:Carrizo Plains 🌷
DESCRIPTION:Take a trip to the beautiful Carrizo plain where Ferruginous Hawks\, Prairie Falcons\, Golden Eagles\, Mountain Bluebirds\, and Mountain Plovers like to spend the winter! This is an all day trip\, so be prepared! Meet at 8 a.m. at the corner of Hwy 166/33 and Soda Lake Rd. Trip leaders: Thelma Williams and Dee Lyon (805) 427-0987
URL:https://wp.conejovalleyaudubon.org/event/%f0%9f%8c%b7carrizo-plains/
LOCATION:Carrizo Plain Meeting Point\, 32660 CA-33\, Maricopa\, CA\, 93252\, United States
CATEGORIES:Field Trips
ATTACH;FMTTYPE=image/jpeg:https://wp.conejovalleyaudubon.org/wp-content/uploads/2024/12/North-Carrizo-Ecological-Reserve_Chuck-Wheaton_web-4.jpg
END:VEVENT
END:VCALENDAR