BEGIN:VCALENDAR
VERSION:2.0
PRODID:-//Conejo Valley Audubon - ECPv6.15.17.1//NONSGML v1.0//EN
CALSCALE:GREGORIAN
METHOD:PUBLISH
X-ORIGINAL-URL:https://wp.conejovalleyaudubon.org
X-WR-CALDESC:Events for Conejo Valley Audubon
REFRESH-INTERVAL;VALUE=DURATION:PT1H
X-Robots-Tag:noindex
X-PUBLISHED-TTL:PT1H
BEGIN:VTIMEZONE
TZID:America/Los_Angeles
BEGIN:DAYLIGHT
TZOFFSETFROM:-0800
TZOFFSETTO:-0700
TZNAME:PDT
DTSTART:20230312T100000
END:DAYLIGHT
BEGIN:STANDARD
TZOFFSETFROM:-0700
TZOFFSETTO:-0800
TZNAME:PST
DTSTART:20231105T090000
END:STANDARD
BEGIN:DAYLIGHT
TZOFFSETFROM:-0800
TZOFFSETTO:-0700
TZNAME:PDT
DTSTART:20240310T100000
END:DAYLIGHT
BEGIN:STANDARD
TZOFFSETFROM:-0700
TZOFFSETTO:-0800
TZNAME:PST
DTSTART:20241103T090000
END:STANDARD
BEGIN:DAYLIGHT
TZOFFSETFROM:-0800
TZOFFSETTO:-0700
TZNAME:PDT
DTSTART:20250309T100000
END:DAYLIGHT
BEGIN:STANDARD
TZOFFSETFROM:-0700
TZOFFSETTO:-0800
TZNAME:PST
DTSTART:20251102T090000
END:STANDARD
END:VTIMEZONE
BEGIN:VEVENT
DTSTART;TZID=America/Los_Angeles:20240504T070000
DTEND;TZID=America/Los_Angeles:20240504T100000
DTSTAMP:20260424T180242
CREATED:20240408T031523Z
LAST-MODIFIED:20241224T013103Z
UID:5770-1714806000-1714816800@wp.conejovalleyaudubon.org
SUMMARY:⛰️Rancho Sierra Vista
DESCRIPTION:For those who can’t make the beginner bird walks on Wednesdays\, this is a great time to check out this hidden gem in Newbury Park! Meet at the end of the parking lot where you’ll see plenty of Cliff Swallows nesting under the eaves of the bathroom. You’ll also look for Lazuli Buntings\, Blue Grosbeaks\, and any late migrants!\n\nTrip leader: Ryan Burnett: (530) 258 – 6742
URL:https://wp.conejovalleyaudubon.org/event/%e2%9b%b0%ef%b8%8francho-sierra-vista/
LOCATION:Rancho Sierra Vista / Satwiwa\, 4803 Lynn Rd\, Newbury Park\, CA\, 91320
CATEGORIES:Field Trips
END:VEVENT
BEGIN:VEVENT
DTSTART;TZID=America/Los_Angeles:20240508T080000
DTEND;TZID=America/Los_Angeles:20240508T093000
DTSTAMP:20260424T180242
CREATED:20240416T174019Z
LAST-MODIFIED:20240416T174019Z
UID:5800-1715155200-1715160600@wp.conejovalleyaudubon.org
SUMMARY:Beginner Bird Walk - Rancho Sierra Vista / Satwiwa
DESCRIPTION:Conejo Valley Audubon invites birders of all experience levels to attend our monthly Beginner Bird Walks at Rancho Sierra Vista/Satwiwa. These walks are held on the second Wednesday of each month. We will meet at 8:00 am at the main parking lot\, which is accessible off Lynn Road at Via Goleta in Newbury Park. \n  Rancho Sierra Vista is an excellent place to see many of the oak woodlands birds that are common in the Conejo Valley area. We will take time to introduce beginning birders to these species and will teach the best techniques for locating and identifying them. Wear comfortable walking shoes. \nContact walk leader Richard Armerding at (310) 701-3878 (texting is OK).
URL:https://wp.conejovalleyaudubon.org/event/beginner-bird-walk-rancho-sierra-vista-satwiwa-27/
LOCATION:Rancho Sierra Vista / Satwiwa\, 4803 Lynn Rd\, Newbury Park\, CA\, 91320
CATEGORIES:Field Trips
END:VEVENT
BEGIN:VEVENT
DTSTART;TZID=America/Los_Angeles:20240511T070000
DTEND;TZID=America/Los_Angeles:20240511T100000
DTSTAMP:20260424T180242
CREATED:20240408T031656Z
LAST-MODIFIED:20240408T031656Z
UID:5772-1715410800-1715421600@wp.conejovalleyaudubon.org
SUMMARY:? Ventura Settling Ponds
DESCRIPTION:While most waterfowl species have left the ponds this time of year\, there are still tons of birds around! Large numbers of swallows and swifts gather over these waters\, so be on the lookout for Purple Martins and potentially even Black Swifts! Other songbirds call this area home for the breeding season like Swainson’s Thrush\, Yellow-breasted Chat\, and plenty of Yellow Warblers!\n\nTrip leader: Frank De Martino (856) 906 – 8733
URL:https://wp.conejovalleyaudubon.org/event/%f0%9f%a6%86-ventura-settling-ponds/
LOCATION:Ventura Settling Ponds\, 1400 Angler Ct.\, Ventura\, CA\, 93001\, United States
CATEGORIES:Field Trips
END:VEVENT
END:VCALENDAR