BEGIN:VCALENDAR
VERSION:2.0
PRODID:-//Conejo Valley Audubon - ECPv6.15.17.1//NONSGML v1.0//EN
CALSCALE:GREGORIAN
METHOD:PUBLISH
X-WR-CALNAME:Conejo Valley Audubon
X-ORIGINAL-URL:https://wp.conejovalleyaudubon.org
X-WR-CALDESC:Events for Conejo Valley Audubon
REFRESH-INTERVAL;VALUE=DURATION:PT1H
X-Robots-Tag:noindex
X-PUBLISHED-TTL:PT1H
BEGIN:VTIMEZONE
TZID:America/Los_Angeles
BEGIN:DAYLIGHT
TZOFFSETFROM:-0800
TZOFFSETTO:-0700
TZNAME:PDT
DTSTART:20220313T100000
END:DAYLIGHT
BEGIN:STANDARD
TZOFFSETFROM:-0700
TZOFFSETTO:-0800
TZNAME:PST
DTSTART:20221106T090000
END:STANDARD
BEGIN:DAYLIGHT
TZOFFSETFROM:-0800
TZOFFSETTO:-0700
TZNAME:PDT
DTSTART:20230312T100000
END:DAYLIGHT
BEGIN:STANDARD
TZOFFSETFROM:-0700
TZOFFSETTO:-0800
TZNAME:PST
DTSTART:20231105T090000
END:STANDARD
BEGIN:DAYLIGHT
TZOFFSETFROM:-0800
TZOFFSETTO:-0700
TZNAME:PDT
DTSTART:20240310T100000
END:DAYLIGHT
BEGIN:STANDARD
TZOFFSETFROM:-0700
TZOFFSETTO:-0800
TZNAME:PST
DTSTART:20241103T090000
END:STANDARD
END:VTIMEZONE
BEGIN:VEVENT
DTSTART;TZID=America/Los_Angeles:20230506T200000
DTEND;TZID=America/Los_Angeles:20230506T213000
DTSTAMP:20260422T130635
CREATED:20230420T023246Z
LAST-MODIFIED:20230420T023246Z
UID:4172-1683403200-1683408600@wp.conejovalleyaudubon.org
SUMMARY:Birds and Burgers
DESCRIPTION:If you can’t make the field trip\, but still want to hang out with your fellow bird nerds\, come join us each month for food and drinks! This month\, we will be going to Hozy’s Grill in Santa Paula at 8:15 p.m.
URL:https://wp.conejovalleyaudubon.org/event/birds-and-burgers/
LOCATION:Hozy’s Grill\, 1760 Lemonwood Dr\, Santa Paula\, CA\, 93060
CATEGORIES:Birds and Burgers
END:VEVENT
END:VCALENDAR