BEGIN:VCALENDAR
VERSION:2.0
PRODID:-//Conejo Valley Audubon - ECPv6.15.17.1//NONSGML v1.0//EN
CALSCALE:GREGORIAN
METHOD:PUBLISH
X-WR-CALNAME:Conejo Valley Audubon
X-ORIGINAL-URL:https://wp.conejovalleyaudubon.org
X-WR-CALDESC:Events for Conejo Valley Audubon
REFRESH-INTERVAL;VALUE=DURATION:PT1H
X-Robots-Tag:noindex
X-PUBLISHED-TTL:PT1H
BEGIN:VTIMEZONE
TZID:America/Los_Angeles
BEGIN:DAYLIGHT
TZOFFSETFROM:-0800
TZOFFSETTO:-0700
TZNAME:PDT
DTSTART:20250309T100000
END:DAYLIGHT
BEGIN:STANDARD
TZOFFSETFROM:-0700
TZOFFSETTO:-0800
TZNAME:PST
DTSTART:20251102T090000
END:STANDARD
BEGIN:DAYLIGHT
TZOFFSETFROM:-0800
TZOFFSETTO:-0700
TZNAME:PDT
DTSTART:20260308T100000
END:DAYLIGHT
BEGIN:STANDARD
TZOFFSETFROM:-0700
TZOFFSETTO:-0800
TZNAME:PST
DTSTART:20261101T090000
END:STANDARD
BEGIN:DAYLIGHT
TZOFFSETFROM:-0800
TZOFFSETTO:-0700
TZNAME:PDT
DTSTART:20270314T100000
END:DAYLIGHT
BEGIN:STANDARD
TZOFFSETFROM:-0700
TZOFFSETTO:-0800
TZNAME:PST
DTSTART:20271107T090000
END:STANDARD
END:VTIMEZONE
BEGIN:VEVENT
DTSTART;TZID=America/Los_Angeles:20260418T090000
DTEND;TZID=America/Los_Angeles:20260418T110000
DTSTAMP:20260420T064208
CREATED:20260217T001013Z
LAST-MODIFIED:20260417T183317Z
UID:12330-1776502800-1776510000@wp.conejovalleyaudubon.org
SUMMARY:Family Birding Event - LOCATION CHANGE
DESCRIPTION:In collaboration with Moorpark City Library\, come and learn the basics of birdwatching. Learning activities for all ages and a bird walk through the park will help you ID the birds in your backyard and our local parks. \n\n\n\nPlease note the location change: Meet at 9 am at Tierra Rejada Park – 11900 Mountain Trail Street (Corner of Tierra Rejada Road)\, Moorpark\, CA 93021 \n\n\n\nRSVP: https://mobilize.us/s/2ZFUyS
URL:https://wp.conejovalleyaudubon.org/event/family-birding-event/
CATEGORIES:Beginner Bird Class,Field Trips
END:VEVENT
END:VCALENDAR