BEGIN:VCALENDAR
VERSION:2.0
PRODID:-//Conejo Valley Audubon - ECPv6.15.17.1//NONSGML v1.0//EN
CALSCALE:GREGORIAN
METHOD:PUBLISH
X-ORIGINAL-URL:https://wp.conejovalleyaudubon.org
X-WR-CALDESC:Events for Conejo Valley Audubon
REFRESH-INTERVAL;VALUE=DURATION:PT1H
X-Robots-Tag:noindex
X-PUBLISHED-TTL:PT1H
BEGIN:VTIMEZONE
TZID:America/Los_Angeles
BEGIN:DAYLIGHT
TZOFFSETFROM:-0800
TZOFFSETTO:-0700
TZNAME:PDT
DTSTART:20240310T100000
END:DAYLIGHT
BEGIN:STANDARD
TZOFFSETFROM:-0700
TZOFFSETTO:-0800
TZNAME:PST
DTSTART:20241103T090000
END:STANDARD
BEGIN:DAYLIGHT
TZOFFSETFROM:-0800
TZOFFSETTO:-0700
TZNAME:PDT
DTSTART:20250309T100000
END:DAYLIGHT
BEGIN:STANDARD
TZOFFSETFROM:-0700
TZOFFSETTO:-0800
TZNAME:PST
DTSTART:20251102T090000
END:STANDARD
BEGIN:DAYLIGHT
TZOFFSETFROM:-0800
TZOFFSETTO:-0700
TZNAME:PDT
DTSTART:20260308T100000
END:DAYLIGHT
BEGIN:STANDARD
TZOFFSETFROM:-0700
TZOFFSETTO:-0800
TZNAME:PST
DTSTART:20261101T090000
END:STANDARD
END:VTIMEZONE
BEGIN:VEVENT
DTSTART;TZID=America/Los_Angeles:20250407T190000
DTEND;TZID=America/Los_Angeles:20250407T190000
DTSTAMP:20260424T040530
CREATED:20250315T040755Z
LAST-MODIFIED:20250402T173456Z
UID:8565-1744052400-1744052400@wp.conejovalleyaudubon.org
SUMMARY:April Monthly Program-The Klabundes’ Great Eclipse Birding Adventure
DESCRIPTION:The Klabundes’ Great Eclipse Birding Adventure \n\n\n\n\n\n\n\nOn April 8th 2024\, North America was treated to the spectacle of a total solar eclipse as the moon’s shadow passed across the continent\, from Mexico to Newfoundland. Many of us scurried to points along the path of totality. Some were greeted by clouds\, but others got lucky and had beautiful clear skies. Don and Chrystal Klabunde were among the lucky. So\, join us on April 7th as they present photos from a few birding hot spots along their cross-country drive to Indiana as well as Don’s awesome photos of the 2024 total eclipse!
URL:https://wp.conejovalleyaudubon.org/event/april-monthly-program/
END:VEVENT
END:VCALENDAR