BEGIN:VCALENDAR
VERSION:2.0
PRODID:-//Conejo Valley Audubon - ECPv6.15.17.1//NONSGML v1.0//EN
CALSCALE:GREGORIAN
METHOD:PUBLISH
X-ORIGINAL-URL:https://wp.conejovalleyaudubon.org
X-WR-CALDESC:Events for Conejo Valley Audubon
REFRESH-INTERVAL;VALUE=DURATION:PT1H
X-Robots-Tag:noindex
X-PUBLISHED-TTL:PT1H
BEGIN:VTIMEZONE
TZID:America/Los_Angeles
BEGIN:DAYLIGHT
TZOFFSETFROM:-0800
TZOFFSETTO:-0700
TZNAME:PDT
DTSTART:20210314T100000
END:DAYLIGHT
BEGIN:STANDARD
TZOFFSETFROM:-0700
TZOFFSETTO:-0800
TZNAME:PST
DTSTART:20211107T090000
END:STANDARD
BEGIN:DAYLIGHT
TZOFFSETFROM:-0800
TZOFFSETTO:-0700
TZNAME:PDT
DTSTART:20220313T100000
END:DAYLIGHT
BEGIN:STANDARD
TZOFFSETFROM:-0700
TZOFFSETTO:-0800
TZNAME:PST
DTSTART:20221106T090000
END:STANDARD
BEGIN:DAYLIGHT
TZOFFSETFROM:-0800
TZOFFSETTO:-0700
TZNAME:PDT
DTSTART:20230312T100000
END:DAYLIGHT
BEGIN:STANDARD
TZOFFSETFROM:-0700
TZOFFSETTO:-0800
TZNAME:PST
DTSTART:20231105T090000
END:STANDARD
END:VTIMEZONE
BEGIN:VEVENT
DTSTART;VALUE=DATE:20220901
DTEND;VALUE=DATE:20221201
DTSTAMP:20260419T055942
CREATED:20220820T004735Z
LAST-MODIFIED:20220924T004819Z
UID:2559-1661990400-1669852799@wp.conejovalleyaudubon.org
SUMMARY:Warbler Bingo!
DESCRIPTION:Townsend’s Warbler\nTest your skills at spotting and identifying elusive Fall Warblers. Our contest runs from September 1st through November 30th. You may request a free Bingo Card starting on August 15th. See the Warbler Bingo page for all the details and to sign up. \nAs of September 20\, 2022\, we have a winner! Marc Better filled in a row of his Bingo card with the following warblers: Orange crowned\, Townsend’s\, Free Space\, Northern Waterthrush and Black and White. Congratulations\, Marc! \nBut you can keep playing and report your own Bingos. You just won’t win a prize other than the satisfaction of spying a few rarities.
URL:https://wp.conejovalleyaudubon.org/event/warbler-bingo/
END:VEVENT
BEGIN:VEVENT
DTSTART;TZID=America/Los_Angeles:20221106T080000
DTEND;TZID=America/Los_Angeles:20221106T110000
DTSTAMP:20260419T055942
CREATED:20221024T163514Z
LAST-MODIFIED:20221024T163917Z
UID:2862-1667721600-1667732400@wp.conejovalleyaudubon.org
SUMMARY:Lower Sycamore Canyon
DESCRIPTION:Meet at 8 am at the parking lot off Hwy 1. We’ll look for riparian birds and rarities. \nCalifornia Thrasher\nCommon Yellowthroat\nTrip leader is Linda Easter – (818) 519-2833 \nPlease bring water\, a snack\, bug repellant and a jacket. RAIN CANCELS \nEveryone is welcome to attend any Conejo Valley Audubon field trip\, but Conejo Valley Audubon assumes no responsibility for injuries\, personal or otherwise\, incurred while attending a CVAS sponsored activity and in order to attend\, all attendees agree that CVAS is not liable for such accidents. Everyone attends at their own risk.
URL:https://wp.conejovalleyaudubon.org/event/lower-sycamore-canyon/
LOCATION:Sycamore Canyon\, 9000 E Pacific Coast Hwy\, Malibu\, California\, 90265
CATEGORIES:Field Trips
END:VEVENT
END:VCALENDAR