BEGIN:VCALENDAR
VERSION:2.0
PRODID:-//Conejo Valley Audubon - ECPv6.15.17.1//NONSGML v1.0//EN
CALSCALE:GREGORIAN
METHOD:PUBLISH
X-ORIGINAL-URL:https://wp.conejovalleyaudubon.org
X-WR-CALDESC:Events for Conejo Valley Audubon
REFRESH-INTERVAL;VALUE=DURATION:PT1H
X-Robots-Tag:noindex
X-PUBLISHED-TTL:PT1H
BEGIN:VTIMEZONE
TZID:America/Los_Angeles
BEGIN:DAYLIGHT
TZOFFSETFROM:-0800
TZOFFSETTO:-0700
TZNAME:PDT
DTSTART:20210314T100000
END:DAYLIGHT
BEGIN:STANDARD
TZOFFSETFROM:-0700
TZOFFSETTO:-0800
TZNAME:PST
DTSTART:20211107T090000
END:STANDARD
BEGIN:DAYLIGHT
TZOFFSETFROM:-0800
TZOFFSETTO:-0700
TZNAME:PDT
DTSTART:20220313T100000
END:DAYLIGHT
BEGIN:STANDARD
TZOFFSETFROM:-0700
TZOFFSETTO:-0800
TZNAME:PST
DTSTART:20221106T090000
END:STANDARD
BEGIN:DAYLIGHT
TZOFFSETFROM:-0800
TZOFFSETTO:-0700
TZNAME:PDT
DTSTART:20230312T100000
END:DAYLIGHT
BEGIN:STANDARD
TZOFFSETFROM:-0700
TZOFFSETTO:-0800
TZNAME:PST
DTSTART:20231105T090000
END:STANDARD
END:VTIMEZONE
BEGIN:VEVENT
DTSTART;TZID=America/Los_Angeles:20220502T193000
DTEND;TZID=America/Los_Angeles:20220502T210000
DTSTAMP:20260420T144817
CREATED:20220501T171627Z
LAST-MODIFIED:20220501T171743Z
UID:2376-1651519800-1651525200@wp.conejovalleyaudubon.org
SUMMARY:Monthly Program - May 2022
DESCRIPTION:Sandor “Alex” Havasi and his wife\, Marilyn Fordney\, will take us to visit a variety of wet-land locations in our area with stories about their experiences while taking photos of thebirds they found in each place. They’ll also report how these areas have been affectedby encroachment and the effect of weed killers. Each photo will have the names of thebirds\, the time of year and the location.Alex and Marilyn created the Havasi Wilderness Foundation in 2004\, and they have pre-viously entertained us with their birding adventures in Africa\, Costa Rica\, Madagascar\,and Around the World. Their foundation’s media specialist\, Isaac Yelchin\, will be joiningthem to lend his expertise. During the pandemic\, they spent their time doing photoshoots and have published an educational book entitled My Adventure in the Wetlands. \nTo attend this meeting\, use this link: https://zoom.us/j/6155249106
URL:https://wp.conejovalleyaudubon.org/event/monthly-program-may-2022/
LOCATION:CVAS Monthly Program Zoom Meeting
CATEGORIES:Monthly Program
END:VEVENT
END:VCALENDAR