BEGIN:VCALENDAR
VERSION:2.0
PRODID:-//Conejo Valley Audubon - ECPv6.15.17.1//NONSGML v1.0//EN
CALSCALE:GREGORIAN
METHOD:PUBLISH
X-ORIGINAL-URL:https://wp.conejovalleyaudubon.org
X-WR-CALDESC:Events for Conejo Valley Audubon
REFRESH-INTERVAL;VALUE=DURATION:PT1H
X-Robots-Tag:noindex
X-PUBLISHED-TTL:PT1H
BEGIN:VTIMEZONE
TZID:America/Los_Angeles
BEGIN:DAYLIGHT
TZOFFSETFROM:-0800
TZOFFSETTO:-0700
TZNAME:PDT
DTSTART:20210314T100000
END:DAYLIGHT
BEGIN:STANDARD
TZOFFSETFROM:-0700
TZOFFSETTO:-0800
TZNAME:PST
DTSTART:20211107T090000
END:STANDARD
BEGIN:DAYLIGHT
TZOFFSETFROM:-0800
TZOFFSETTO:-0700
TZNAME:PDT
DTSTART:20220313T100000
END:DAYLIGHT
BEGIN:STANDARD
TZOFFSETFROM:-0700
TZOFFSETTO:-0800
TZNAME:PST
DTSTART:20221106T090000
END:STANDARD
BEGIN:DAYLIGHT
TZOFFSETFROM:-0800
TZOFFSETTO:-0700
TZNAME:PDT
DTSTART:20230312T100000
END:DAYLIGHT
BEGIN:STANDARD
TZOFFSETFROM:-0700
TZOFFSETTO:-0800
TZNAME:PST
DTSTART:20231105T090000
END:STANDARD
END:VTIMEZONE
BEGIN:VEVENT
DTSTART;TZID=America/Los_Angeles:20220121T080000
DTEND;TZID=America/Los_Angeles:20220121T110000
DTSTAMP:20260421T093944
CREATED:20211228T042555Z
LAST-MODIFIED:20220104T050404Z
UID:2070-1642752000-1642762800@wp.conejovalleyaudubon.org
SUMMARY:Point Mugu Navy Base Field Trip - CANCELED
DESCRIPTION:*** Unfortunately\, we have had to cancel this field trip. We will try to reschedule it later in the year. *** \nThis field trip is open only to current members of Conejo Valley Audubon Society. The Navy says they will be ready for us this time. \nText Dee Lyon at (805)427-0987 for the forms which must be in by three weeks prior to the trip. That’s January 1st!  \nWe saw close to 70 species in November.
URL:https://wp.conejovalleyaudubon.org/event/point-mugu-navy-base-field-trip/
CATEGORIES:Field Trips
END:VEVENT
END:VCALENDAR