BEGIN:VCALENDAR
VERSION:2.0
PRODID:-//Conejo Valley Audubon - ECPv6.15.17.1//NONSGML v1.0//EN
CALSCALE:GREGORIAN
METHOD:PUBLISH
X-WR-CALNAME:Conejo Valley Audubon
X-ORIGINAL-URL:https://wp.conejovalleyaudubon.org
X-WR-CALDESC:Events for Conejo Valley Audubon
REFRESH-INTERVAL;VALUE=DURATION:PT1H
X-Robots-Tag:noindex
X-PUBLISHED-TTL:PT1H
BEGIN:VTIMEZONE
TZID:America/Los_Angeles
BEGIN:DAYLIGHT
TZOFFSETFROM:-0800
TZOFFSETTO:-0700
TZNAME:PDT
DTSTART:20200308T100000
END:DAYLIGHT
BEGIN:STANDARD
TZOFFSETFROM:-0700
TZOFFSETTO:-0800
TZNAME:PST
DTSTART:20201101T090000
END:STANDARD
BEGIN:DAYLIGHT
TZOFFSETFROM:-0800
TZOFFSETTO:-0700
TZNAME:PDT
DTSTART:20210314T100000
END:DAYLIGHT
BEGIN:STANDARD
TZOFFSETFROM:-0700
TZOFFSETTO:-0800
TZNAME:PST
DTSTART:20211107T090000
END:STANDARD
BEGIN:DAYLIGHT
TZOFFSETFROM:-0800
TZOFFSETTO:-0700
TZNAME:PDT
DTSTART:20220313T100000
END:DAYLIGHT
BEGIN:STANDARD
TZOFFSETFROM:-0700
TZOFFSETTO:-0800
TZNAME:PST
DTSTART:20221106T090000
END:STANDARD
END:VTIMEZONE
BEGIN:VEVENT
DTSTART;TZID=America/Los_Angeles:20211127T080000
DTEND;TZID=America/Los_Angeles:20211127T110000
DTSTAMP:20260423T051247
CREATED:20211015T163952Z
LAST-MODIFIED:20211015T164018Z
UID:1841-1638000000-1638010800@wp.conejovalleyaudubon.org
SUMMARY:Rancho Sierra Vista / Satwiwa
DESCRIPTION:We will meet at 8:00 am at the main parking lot\, which is accessible off Lynn Road at Via Goleta in Newbury Park. \nRancho Sierra Vista is an excellent place to see many of the oak woodlands birds that are common in the Conejo Valley area. Wear comfortable walking shoes. \nWalk leader Richard Armerding (310) 701-3878 (texting is OK).
URL:https://wp.conejovalleyaudubon.org/event/rancho-sierra-vista-satwiwa/
LOCATION:Rancho Sierra Vista / Satwiwa\, 4803 Lynn Rd\, Newbury Park\, CA\, 91320
CATEGORIES:Field Trips
END:VEVENT
END:VCALENDAR