BEGIN:VCALENDAR
VERSION:2.0
PRODID:-//Conejo Valley Audubon - ECPv6.15.17.1//NONSGML v1.0//EN
CALSCALE:GREGORIAN
METHOD:PUBLISH
X-WR-CALNAME:Conejo Valley Audubon
X-ORIGINAL-URL:https://wp.conejovalleyaudubon.org
X-WR-CALDESC:Events for Conejo Valley Audubon
REFRESH-INTERVAL;VALUE=DURATION:PT1H
X-Robots-Tag:noindex
X-PUBLISHED-TTL:PT1H
BEGIN:VTIMEZONE
TZID:America/Los_Angeles
BEGIN:DAYLIGHT
TZOFFSETFROM:-0800
TZOFFSETTO:-0700
TZNAME:PDT
DTSTART:20200308T100000
END:DAYLIGHT
BEGIN:STANDARD
TZOFFSETFROM:-0700
TZOFFSETTO:-0800
TZNAME:PST
DTSTART:20201101T090000
END:STANDARD
BEGIN:DAYLIGHT
TZOFFSETFROM:-0800
TZOFFSETTO:-0700
TZNAME:PDT
DTSTART:20210314T100000
END:DAYLIGHT
BEGIN:STANDARD
TZOFFSETFROM:-0700
TZOFFSETTO:-0800
TZNAME:PST
DTSTART:20211107T090000
END:STANDARD
BEGIN:DAYLIGHT
TZOFFSETFROM:-0800
TZOFFSETTO:-0700
TZNAME:PDT
DTSTART:20220313T100000
END:DAYLIGHT
BEGIN:STANDARD
TZOFFSETFROM:-0700
TZOFFSETTO:-0800
TZNAME:PST
DTSTART:20221106T090000
END:STANDARD
END:VTIMEZONE
BEGIN:VEVENT
DTSTART;TZID=America/Los_Angeles:20211121T080000
DTEND;TZID=America/Los_Angeles:20211121T110000
DTSTAMP:20260421T143942
CREATED:20211015T162408Z
LAST-MODIFIED:20211029T153209Z
UID:1834-1637481600-1637492400@wp.conejovalleyaudubon.org
SUMMARY:Conejo Valley Botanic Gardens
DESCRIPTION:We will see lots of passerines. \nThis 41-acre property\, adjacent to Conejo Community Park\, was first acquired in 1973.  In 1976\, the first areas of the Botanic Garden began to emerge.  Since then\, dedicated community volunteers\, donors\, and sponsors have continued to nurture this growing garden oasis\, adding a popular children’s garden in March of 2003. \nEnter on Jeaunine Dr\, off of Gainsborough Rd and park near the Kids Adventure Garden. \nTrip Leader: David Person 805-469-6806
URL:https://wp.conejovalleyaudubon.org/event/conejo-valley-botanic-gardens/
LOCATION:Conejo Valley Botanic Garden\, 400 W. Gainsborough Rd\, Thousand Oaks\, CA\, 91360
END:VEVENT
END:VCALENDAR