BEGIN:VCALENDAR
VERSION:2.0
PRODID:-//Conejo Valley Audubon - ECPv6.15.17.1//NONSGML v1.0//EN
CALSCALE:GREGORIAN
METHOD:PUBLISH
X-ORIGINAL-URL:https://wp.conejovalleyaudubon.org
X-WR-CALDESC:Events for Conejo Valley Audubon
REFRESH-INTERVAL;VALUE=DURATION:PT1H
X-Robots-Tag:noindex
X-PUBLISHED-TTL:PT1H
BEGIN:VTIMEZONE
TZID:America/Los_Angeles
BEGIN:DAYLIGHT
TZOFFSETFROM:-0800
TZOFFSETTO:-0700
TZNAME:PDT
DTSTART:20200308T100000
END:DAYLIGHT
BEGIN:STANDARD
TZOFFSETFROM:-0700
TZOFFSETTO:-0800
TZNAME:PST
DTSTART:20201101T090000
END:STANDARD
BEGIN:DAYLIGHT
TZOFFSETFROM:-0800
TZOFFSETTO:-0700
TZNAME:PDT
DTSTART:20210314T100000
END:DAYLIGHT
BEGIN:STANDARD
TZOFFSETFROM:-0700
TZOFFSETTO:-0800
TZNAME:PST
DTSTART:20211107T090000
END:STANDARD
BEGIN:DAYLIGHT
TZOFFSETFROM:-0800
TZOFFSETTO:-0700
TZNAME:PDT
DTSTART:20220313T100000
END:DAYLIGHT
BEGIN:STANDARD
TZOFFSETFROM:-0700
TZOFFSETTO:-0800
TZNAME:PST
DTSTART:20221106T090000
END:STANDARD
END:VTIMEZONE
BEGIN:VEVENT
DTSTART;TZID=America/Los_Angeles:20211024T080000
DTEND;TZID=America/Los_Angeles:20211024T100000
DTSTAMP:20260421T143952
CREATED:20210924T163255Z
LAST-MODIFIED:20210924T163255Z
UID:1700-1635062400-1635069600@wp.conejovalleyaudubon.org
SUMMARY:Bob Kildee Community Park Tams
DESCRIPTION:We will visit the renowned tamarisk trees along the east edge of Bob Kildee Community Park. Previous October visits have yielded views of Black-and-White\, Tenessee\, Orange-crowned\, Lucy’s\, Nashville\, MacGillivray’s\, Magnolia\, Bay-breasted\, Blackburnian\, Yellow\, Chestnut-sided\, Blackpoll\, Palm\, Yellow-rumped\, Prairie\, Black-throated Gray\, Townsend’s\, Hermit\, and Wilson’s Warblers. We might also encounter Downy Woodpecker\, \nWestern Wood-Pewee\, Pacific-slope Flycatcher\, Warbling Vireo\, Ruby and Golden-crowned Kinglet\, Red- and White-breasted Nuthatch\, Cedar Waxwing\, and Western Meadowlark. Meet at the southeast corner of the tennis courts (along Eston Street). \nBring a mask and water. \nTrip leader: Linda Easter (818) 519-2833
URL:https://wp.conejovalleyaudubon.org/event/bob-kildee-community-park-tams-2/
LOCATION:Bob Kildee Community Park – Tamarisk Trees\, 1051 Eston St.\, Camarillo\, CA\, 93010\, United States
CATEGORIES:Field Trips
END:VEVENT
END:VCALENDAR