BEGIN:VCALENDAR
VERSION:2.0
PRODID:-//Conejo Valley Audubon - ECPv6.15.17.1//NONSGML v1.0//EN
CALSCALE:GREGORIAN
METHOD:PUBLISH
X-ORIGINAL-URL:https://wp.conejovalleyaudubon.org
X-WR-CALDESC:Events for Conejo Valley Audubon
REFRESH-INTERVAL;VALUE=DURATION:PT1H
X-Robots-Tag:noindex
X-PUBLISHED-TTL:PT1H
BEGIN:VTIMEZONE
TZID:America/Los_Angeles
BEGIN:DAYLIGHT
TZOFFSETFROM:-0800
TZOFFSETTO:-0700
TZNAME:PDT
DTSTART:20200308T100000
END:DAYLIGHT
BEGIN:STANDARD
TZOFFSETFROM:-0700
TZOFFSETTO:-0800
TZNAME:PST
DTSTART:20201101T090000
END:STANDARD
BEGIN:DAYLIGHT
TZOFFSETFROM:-0800
TZOFFSETTO:-0700
TZNAME:PDT
DTSTART:20210314T100000
END:DAYLIGHT
BEGIN:STANDARD
TZOFFSETFROM:-0700
TZOFFSETTO:-0800
TZNAME:PST
DTSTART:20211107T090000
END:STANDARD
BEGIN:DAYLIGHT
TZOFFSETFROM:-0800
TZOFFSETTO:-0700
TZNAME:PDT
DTSTART:20220313T100000
END:DAYLIGHT
BEGIN:STANDARD
TZOFFSETFROM:-0700
TZOFFSETTO:-0800
TZNAME:PST
DTSTART:20221106T090000
END:STANDARD
END:VTIMEZONE
BEGIN:VEVENT
DTSTART;TZID=America/Los_Angeles:20210503T193000
DTEND;TZID=America/Los_Angeles:20210503T210000
DTSTAMP:20260425T041940
CREATED:20210216T022216Z
LAST-MODIFIED:20210402T153145Z
UID:1185-1620070200-1620075600@wp.conejovalleyaudubon.org
SUMMARY:Monthly Program - May 2021
DESCRIPTION:We’ll Always Have Parrots: The Past\, Present\, and Future of Amazona Parrots in Los Angeles\nJohn McCormack\nDr. John McCormack will speak on the history of Los Angeles’ Amazona parrots (Red-crowned and Lilac-crowned Parrots) and what DNA from museum specimens can tell us about their origins\, adaptation to city life\, hybridization\, and future as distinct species. Dr. McCormack is Director and Curator of the Bird and Mammal Collection at the Moore Laboratory of Zoology and an Assistant Professor of Biology at Occidental College. The Moore Lab holds the largest collection of Mexican birds in the world and over 65\,000 specimens in total\, which researchers from around the world study to understand avian biodiversity and how it originated. Dr. McCormack has pioneered the use of new DNA sequencing technologies to collect DNA from museum \nAmazon Parrot\nspecimens. He received his undergraduate degree in Ecology and Evolutionary Biology from the University of Arizona and his PhD from UCLA. After postdoctoral research at the University of Michigan and Louisiana State University\, he arrived at Occidental College as Moore Lab Director in 2011. He recently oversaw the completion of a major remodel to the Moore Lab’s facilities and collection space. \nThis will be an online meeting by way of Zoom: https://zoom.us/j/6155249106
URL:https://wp.conejovalleyaudubon.org/event/monthly-program-may-2021/
LOCATION:CVAS Monthly Program Zoom Meeting
CATEGORIES:Monthly Program
END:VEVENT
END:VCALENDAR